BEGIN:VCALENDAR
VERSION:2.0
PRODID:-//Gminne Centrum Kultury w Gródku - ECPv4.9.5//NONSGML v1.0//EN
CALSCALE:GREGORIAN
METHOD:PUBLISH
X-WR-CALNAME:Gminne Centrum Kultury w Gródku
X-ORIGINAL-URL:https://gckgrodek.pl
X-WR-CALDESC:Events for Gminne Centrum Kultury w Gródku
BEGIN:VTIMEZONE
TZID:"Europe/Warsaw"
BEGIN:DAYLIGHT
TZOFFSETFROM:+0100
TZOFFSETTO:+0200
TZNAME:CEST
DTSTART:20180325T010000
END:DAYLIGHT
BEGIN:STANDARD
TZOFFSETFROM:+0200
TZOFFSETTO:+0100
TZNAME:CET
DTSTART:20181028T010000
END:STANDARD
END:VTIMEZONE
BEGIN:VEVENT
DTSTART;TZID="Europe/Warsaw":20180307T170000
DTEND;TZID="Europe/Warsaw":20180307T183000
DTSTAMP:20260420T051009
CREATED:20180302T113259Z
LAST-MODIFIED:20180302T113350Z
UID:8977-1520442000-1520447400@gckgrodek.pl
SUMMARY:GMINNE OBCHODY DNIA KOBIET
DESCRIPTION:Wójt Gminy Gródek oraz Gminne Centrum Kultury w Gródku serdecznie zaprasza na Gminne obchody Dnia Kobiet pod hasłem: „Bądź piękna na wiosnę”\, które odbędą się 7 marca o godz. 17.00 w Sali konferencyjnej Gminnego Centrum Kultury w Gródku. W programie pokazy fryzjerskie\, make up’u i pielęgnacji paznokci w wykonaniu gródeckich dziewczyn oraz prezentacja techniki masażu przez dziewczyny ze Szkoły Cosinus z Białegostoku. \n– pokaz sztuki fryzjerskiej – Dorota Latos i Joanna Bursa\n– pokazy i nauka makijażu – Paulina Treska i Wioleta Mieleszko\n– pielęgnacja paznokci – Judyta Prus\n– masaże – Szkoła Policealna Cosinus\nPodczas spotkania odbędzie się loteria fantowa oraz słodki poczęstunek. \nWszystkie Panie otrzymają drobny upominek. \nPatronat medialny objął Portal ObcasyPodlasia.pl.\nOrganizatorem jest Gminne Centrum Kultury w Gródku. \n
URL:https://gckgrodek.pl/wydarzenie/gminne-obchody-dnia-kobiet/
LOCATION:Gminne Centrum Kultury Gródku\, ul. A. i G. Chodkiewiczów 4\, Gródek\, 16-040
ATTACH;FMTTYPE=image/jpeg:https://gckgrodek.pl/wp-content/uploads/2018/03/plakat_dzien_kobiet_18-—-kopia.jpg
END:VEVENT
END:VCALENDAR