BEGIN:VCALENDAR
VERSION:2.0
PRODID:-//Gminne Centrum Kultury w Gródku - ECPv4.9.5//NONSGML v1.0//EN
CALSCALE:GREGORIAN
METHOD:PUBLISH
X-WR-CALNAME:Gminne Centrum Kultury w Gródku
X-ORIGINAL-URL:https://gckgrodek.pl
X-WR-CALDESC:Events for Gminne Centrum Kultury w Gródku
BEGIN:VTIMEZONE
TZID:"Europe/Warsaw"
BEGIN:DAYLIGHT
TZOFFSETFROM:+0100
TZOFFSETTO:+0200
TZNAME:CEST
DTSTART:20210328T010000
END:DAYLIGHT
BEGIN:STANDARD
TZOFFSETFROM:+0200
TZOFFSETTO:+0100
TZNAME:CET
DTSTART:20211031T010000
END:STANDARD
END:VTIMEZONE
BEGIN:VEVENT
DTSTART;TZID="Europe/Warsaw":20211016T180000
DTEND;TZID="Europe/Warsaw":20211016T180000
DTSTAMP:20260420T020826
CREATED:20211006T090100Z
LAST-MODIFIED:20211006T090127Z
UID:16184-1634407200-1634407200@gckgrodek.pl
SUMMARY:GINCZANKA. PRZEPIS NA PROSTOTĘ ŻYCIA
DESCRIPTION: grupa wiekowa: młodzież i dorośli\n BILETY: 10 ZŁ; PŁATNOŚĆ ZA BILETY WYŁĄCZNIE NA RACHUNEK BANKOWY GCK: 68 8060 0004 0390 0202 2000 0050\,\nBank Spółdzielczy w Białymstoku\, Oddział w Gródku\, tytułem: GINCZANKA (imię i nazwisko wpłacającego); BILETY DO ODEBRANIA W GODZINACH PRACY GCK ORAZ PRZED SPEKTAKLEM.\n\n Ginczanka. Przepis na prostotę życia\nTeatr Łaźnia Nowa w Krakowie\nBałtycka Agencja Artystyczna BART\nZuzanna Ginczanka (właśc. Zuzanna Polina Gincburg) była piękna\, utalentowana i podziwiana. „Tuwim w spódnicy”\, „Gwiazda Syjonu”\, „Rachela z Wesela Wyspiańskiego”. Żydówka\, Rosjanka\, Cyganka czy jednak Polka? Chciała być Polką i do tej wyśnionej\, wymarzonej Polski przez całe życie ją ciągnęło. Do języka\, ludzi\, książek i miejsc.\nJako poetka nie miała łatwo. Mężczyźni widzieli w niej trofeum\, ciało\, dziewczynę\, z którą warto się pokazać\, ale niekoniecznie dyskutować. Była ulubienicą Juliana Tuwima i Witolda Gombrowicza. Publikowała w „Wiadomościach Literackich” i „Skamandrze”\, współpracowała ze „Szpilkami”. Spotykała się ze skamandrytami w restauracji Ziemiańskiej w Warszawie\, a z Witoldem Gombrowiczem – w kawiarni Zodiak.\nOstatni rok życia spędziła w Krakowie\, ukrywając się w kamienicy przy ul. Mikołajskiej 26. Prawie nie wychodziła z mieszkania\, jej „ormiańskie papiery” wydawały się zbyt słabe. Mimo to pod koniec wojny została aresztowana przez Gestapo. Zginęła w wieku 27 lat.\nJako mała dziewczynka Zuzanna klęczała przebrana za anioła w witrynie sklepu w Równem. Żywa reklama zbliżających się Świąt. Może jej życie było życiem anioła zesłanego na ziemię w złym czasie i w złym miejscu?\nW spektaklu wykorzystano fragment filmu z Zuzanną Ginczanką z kawiarni Adria w Warszawie (1936) dzięki uprzejmości United States Holocaust Memorial Museum (gift of Juliet Brayan Archive).\nFotografie archiwalne Zuzanny Ginczanki dzięki uprzejmości Muzeum Literatury im. Adama Mickiewicza w Warszawie.\nSpektakl prezentowany w ramach Programu TEATR POLSKA realizowanego jest ze środków Ministra Kultury\, Dziedzictwa Narodowego i Sportu\nTekst: Piotr Rowicki\nReżyseria: Anna Gryszkówna\nScenografia i kostiumy: Anna-Maria Karczmarska\nMuzyka: Michał Lamża\nKonsultacja merytoryczna: dr Agata Araszkiewicz\nReżyseria światła: Mateusz Gierc\nKierowniczka objazdu: Małgorzata Rapacz\nPromocja projektu: Łukasz Kolender\nKoordynacja spektakli: Małgorzata Rapacz\, Aneta Skrzyszowska\nRealizacja techniczna spektakli: Bogumiła Kryśko\, Jolanta Potocka\, Bartosz Buczak\, Mateusz Gierc\, Grzegorz Kaliszuk\, Jakub Katarzyński\, Jacek Kosiba\, Sławomir Matysiak\, Wacław Telega\nWystępuje: Agnieszka Przepiórska\nProdukcja: Teatr Łaźnia Nowa w Krakowie\, Bałtycka Agencja Artystyczna BART\nCzas trwania: 70 minut\n
URL:https://gckgrodek.pl/wydarzenie/ginczanka-przepis-na-prostote-zycia/
LOCATION:Gminne Centrum Kultury Gródku\, ul. A. i G. Chodkiewiczów 4\, Gródek\, 16-040
CATEGORIES:Teatr
ATTACH;FMTTYPE=image/jpeg:https://gckgrodek.pl/wp-content/uploads/2021/10/Teatr-Polski-Ginczanka_A3_02-—-kopia.jpg
END:VEVENT
END:VCALENDAR