BEGIN:VCALENDAR
VERSION:2.0
PRODID:-//Gminne Centrum Kultury w Gródku - ECPv4.9.5//NONSGML v1.0//EN
CALSCALE:GREGORIAN
METHOD:PUBLISH
X-WR-CALNAME:Gminne Centrum Kultury w Gródku
X-ORIGINAL-URL:https://gckgrodek.pl
X-WR-CALDESC:Events for Gminne Centrum Kultury w Gródku
BEGIN:VTIMEZONE
TZID:"Europe/Warsaw"
BEGIN:DAYLIGHT
TZOFFSETFROM:+0100
TZOFFSETTO:+0200
TZNAME:CEST
DTSTART:20230326T010000
END:DAYLIGHT
BEGIN:STANDARD
TZOFFSETFROM:+0200
TZOFFSETTO:+0100
TZNAME:CET
DTSTART:20231029T010000
END:STANDARD
END:VTIMEZONE
BEGIN:VEVENT
DTSTART;TZID="Europe/Warsaw":20231203T160000
DTEND;TZID="Europe/Warsaw":20231203T180000
DTSTAMP:20260421T094822
CREATED:20231031T095746Z
LAST-MODIFIED:20231031T095746Z
UID:17045-1701619200-1701626400@gckgrodek.pl
SUMMARY:FORMACJA CHATELET w Gródku
DESCRIPTION:BILETY w cenie 80 zł dostępne tylko online: https://app.evenea.pl/event/chateletgrodek/\n\n3 GRUDNIA (niedziela)\, sala widowiskowa GCK w Gródku\n\nFORMACJA CHATELET ma zaszczyt przedstawić program „WESOŁYCH…PRZEDE WSZYSTKIM”\n\nJest to specjalna\, świąteczna wersja naszego programu „JUST DUET”. Wersja świąteczna wzbogacona jest skeczami o tematyce związanej ze Świętami Bożego Narodzenia i piosenkami kojarzonymi z tym magicznym czasem. Program spina świąteczna konferansjerka z elementami stand up. Tyle ogólników a teraz szczegóły \nOto na co możecie liczyć podczas naszego występu:\n– Let it snow! Let it snow! Let it snow! – utwór wylansowany przez Franka Sinatrę\n– Parodia autorska wielkiego przeboju grupy Wham „Last Christmas”\n– Parodia autorska wielkiego przeboju Elvisa Presleya „Jailhouse rock”\n– Dwa skecze „świąteczne” – stworzone specjalnie na potrzeby tego programu.\n– Trzy skecze z programu „JUST DUET”\n– Podczas występu wykorzystujemy też ekran na którym są wyświetlane nasze autorskie filmiki i parodie reklam\nNadmienić trzeba\, iż piosenki są wykonane w sposób niezwykle profesjonalny i brawurowy przez aktora musicalowego i parodystę Karola Wolskiego.\nJeżeli chcecie się pośmiać i wzruszyć jednocześnie to ten program jest właśnie dla Was! Idź na Formację Chatelet i śmiej się z sensem.\nPs. Oczywiście\, na scenie\, pojawi się też Święty Mikołaj\, ale ponieważ jesteśmy z Krakowa to na prezenty bym nie liczył. Za to rózgę macie jak w banku! \n
URL:https://gckgrodek.pl/wydarzenie/formacja-chatelet-w-grodku/
LOCATION:Gminne Centrum Kultury Gródku\, ul. A. i G. Chodkiewiczów 4\, Gródek\, 16-040
CATEGORIES:Kabaret
ATTACH;FMTTYPE=image/jpeg:https://gckgrodek.pl/wp-content/uploads/2023/10/tlo_strony2.jpg
ORGANIZER;CN="Gminne%20Centrum%20Kultury%20w%20Gr%C3%B3dku":MAILTO:biuro@gckgrodek.pl
END:VEVENT
END:VCALENDAR