BEGIN:VCALENDAR
VERSION:2.0
PRODID:-//Gminne Centrum Kultury w Gródku - ECPv4.9.5//NONSGML v1.0//EN
CALSCALE:GREGORIAN
METHOD:PUBLISH
X-WR-CALNAME:Gminne Centrum Kultury w Gródku
X-ORIGINAL-URL:https://gckgrodek.pl
X-WR-CALDESC:Events for Gminne Centrum Kultury w Gródku
BEGIN:VTIMEZONE
TZID:"Europe/Warsaw"
BEGIN:DAYLIGHT
TZOFFSETFROM:+0100
TZOFFSETTO:+0200
TZNAME:CEST
DTSTART:20190331T010000
END:DAYLIGHT
BEGIN:STANDARD
TZOFFSETFROM:+0200
TZOFFSETTO:+0100
TZNAME:CET
DTSTART:20191027T010000
END:STANDARD
END:VTIMEZONE
BEGIN:VEVENT
DTSTART;VALUE=DATE:20191021
DTEND;VALUE=DATE:20191023
DTSTAMP:20260420T140139
CREATED:20190906T100318Z
LAST-MODIFIED:20190906T100318Z
UID:13096-1571616000-1571788799@gckgrodek.pl
SUMMARY:FESTIWAL FILMÓW MŁODEGO WIDZA: WĘDRUJĄCE ALE KINO!
DESCRIPTION:Wędrujące Ale Kino! wyruszy w Polskę dziesiąty raz \nW ciągu 9-ciu edycji Festiwal Filmów Młodego Widza Wędrujące Ale Kino! odwiedził 22 miejscowości. Każdy z przystanków oznaczał setki zadowolonych widzów oraz wielu młodych filmowców z nowymi umiejętnościami. Objazdowa wersja słynnego poznańskiego Festiwalu obchodzi w tym roku okrągły jubileusz. \nCzarnków\, Gębice\, Trzcianka\, Karlino\, Białogard\, Gołdap\, Teremiski\, Białowieża\, Hajnówka\, Gołdap\, Krasnystaw\, Pacanów\, Cisna\, Rydułtowy\, Cieplewo\, Krośnice\, Szczaniec\, Lipno\, Chełmek\, Rytel\, Grodzisko Dolne\, Zbąszyń – Festiwal Filmów Młodego Widza Wędrujące Ale Kino! odwiedził każdą z tych miejscowości. Przywiózł tam ambitny repertuar filmowych perełek z całego świata – produkcje nagradzane i doceniane\, wyselekcjonowane z programu prestiżowego Międzynarodowego Festiwalu Filmów Młodego Widza Ale Kino! odbywającego co roku w Poznaniu. \nSłynny poznański Festiwal szczyci się ponad 50-letnią tradycją i niejednym międzynarodowym wyróżnieniem. Co roku w grudniu zamienia Poznań w stolicę dziecięcego i młodzieżowego kina\, przyciągając przed ekrany dziesiątki tysięcy poszukiwaczy niezapomnianych filmowych wrażeń. Bawi\, wzrusza\, zachęca do dyskusji i edukuje. \nChoć uczestników Ale Kino! czeka naprawdę wiele atrakcji\, przybycie do Poznania stanowić może wymagający warunek. W 2010 roku Centrum Sztuki Dziecka po raz pierwszy wyszło naprzeciw młodym mieszkańcom dalszych miejscowości i postanowiło podzielić się najlepszymi\, najgoręcej przyjętymi\, filmami minionej edycji Ale Kino!. \nOd tego czasu Wędrujące Ale Kino! co roku przemierza setki kilometrów\, by wywołać uśmiech na twarzach tysięcy młodych widzów. Sprzyja też odkryciom talentów i rozwoju nowych umiejętności. Uczestnicy Festiwalu sprawdzić się mogą jako jurorzy (filmy walczą o Wędrujące Koziołeczki – Nagrodę Publiczności oraz wybierane przez dziecięce jury w każdej z miejscowości Grand Prix)\, ale także jako twórcy – podczas warsztatów filmowych\, reporterskich albo animacji. \nNie inaczej będzie w tegorocznej – jubileuszowej – edycji. Na trasie Wędrującego Ale Kino! jest już 7 miejscowości: Szczaniec (30 września-1 października)\, Zbąszyń (3-4 października)\, Czarnków (7-9 października)\, Cieplewo (7-9 października)\, Gródek (21-22 października)\, Gołdap (23-25 października) i Pacanów (28-30 października). W programie – pięć świetnych filmów pełnometrażowych dla widzów w wieku szkolnym (Gordon i Paddy\, Moja żyrafa\, Jestem William\, Łowcy czarownic\, Mam talent!)\, zestaw porywających krótkich animacji dla najmłodszej – przedszkolnej\, publiczności\, a także inspirujące warsztaty. \nZapraszamy do uczestnictwa w Wędrującym Ale Kino! i zachęcamy do odwiedzin na stronie internetowej wedujace-alekino.com\, gdzie znajdują się szczegółowe informacje na temat Festiwalu. Do zobaczenia na tracie 10. WAK! \n\n\n\n\nRAMÓWKA Gródek 2019 \n\n\n\n\n\n21-22 października 2019 \n\n\n\n\n\n\n\n\n\n21.10.2019 pn.\nGminne Centrum Kultury w Gródku\nWARSZTATY\n\n\ngodz. 9:00 – 10:00\nZestaw krótkich metraży dla przedszkoli\, 53′\n(0-6 LAT)\n9.30 – 13.30               warsztaty animacji poklatkowej\n\n\ngodz. 10:30 – 12:05\nGALA ROZPOCZĘCIA FESTIWALU\nGordon i Paddy\, reż. Linda Hambäck\, Szwecja 2017\, 62’ (7-9 lat) POKAZ KONKURSOWY\n \n\n\ngodz. 12:20 – 13:40\nJestem William\, reż. Jonas Elmer\, Dania 2017\, 83’ (10-12 lat) POKAZ KONKURSOWY\n \n\n\n22.10.2019 wt.\nGminne Centrum Kultury w Gródku\n \n\n\ngodz. 8:40 – 9.55\nMoja żyrafa\, reż. Barbara Bredero\, Holandia\, Belgia\, Niemcy 2017\, 74’ (7-9 lat) POKAZ KONKURSOWY\n9:30 – 13.30                warsztaty animacji poklatkowej\n\n\ngodz. 10:30 – 11.50\nŁowcy czarownic\, reż. Rasko Miljkovic\, Serbia\, Macedonia 2018\, 90’ (10-12 lat) POKAZ KONKURSOWY\n \n\n\ngodz. 12:20 -14.20\nGALA ZAKOŃCZENIA FESTIWALU Mam talent! (Los bando)\nReż. Christian Lo\, Norwegia 2018\, 94’ (od 13 lat)\n \n\n\n\n  \n  \nPaulina Tomasik | paulina@ferment.com.pl | 501 476 150 \nStrona internetowa | www.wedrujace-alekino.com | \n
URL:https://gckgrodek.pl/wydarzenie/festiwal-filmow-mlodego-widza-wedrujace-ale-kino/
LOCATION:Gminne Centrum Kultury Gródku\, ul. A. i G. Chodkiewiczów 4\, Gródek\, 16-040
CATEGORIES:Kino
ATTACH;FMTTYPE=image/jpeg:https://gckgrodek.pl/wp-content/uploads/2019/09/WAK_2019_plakat_DRUK-1-—-kopia.jpg
ORGANIZER;CN="Gminne%20Centrum%20Kultury%20w%20Gr%C3%B3dku":MAILTO:biuro@gckgrodek.pl
END:VEVENT
END:VCALENDAR