BEGIN:VCALENDAR
VERSION:2.0
PRODID:-//Gminne Centrum Kultury w Gródku - ECPv4.9.5//NONSGML v1.0//EN
CALSCALE:GREGORIAN
METHOD:PUBLISH
X-WR-CALNAME:Gminne Centrum Kultury w Gródku
X-ORIGINAL-URL:https://gckgrodek.pl
X-WR-CALDESC:Events for Gminne Centrum Kultury w Gródku
BEGIN:VTIMEZONE
TZID:"Europe/Warsaw"
BEGIN:DAYLIGHT
TZOFFSETFROM:+0100
TZOFFSETTO:+0200
TZNAME:CEST
DTSTART:20180325T010000
END:DAYLIGHT
BEGIN:STANDARD
TZOFFSETFROM:+0200
TZOFFSETTO:+0100
TZNAME:CET
DTSTART:20181028T010000
END:STANDARD
END:VTIMEZONE
BEGIN:VEVENT
DTSTART;VALUE=DATE:20180123
DTEND;VALUE=DATE:20180204
DTSTAMP:20260420T094301
CREATED:20180113T111825Z
LAST-MODIFIED:20180113T112024Z
UID:8531-1516665600-1517702399@gckgrodek.pl
SUMMARY:Ferie zimowe z GCK
DESCRIPTION:Serdecznie zapraszamy dzieci i młodzież do uczestnictwa w zajęciach\, warsztatach i spektaklach organizowanych podczas ferii zimowych pod hasłem “teatr”. \nPoniżej przedstawiamy program: \n23.01 (wtorek)\n \n\nOtwarta zabawa choinkowa dla dzieci ze Stowarzyszenia „Lepsze Jutro”\, godz. 10.00\nZajęcia gitarowe\, godz. 16.30 (instr. Paweł Oziabło)\nZajęcia taneczne „Zabawowy MIX Starszaki”\, godz. 17.00 (instr. M. Łotysz)\n\n24.01 (środa)\n \n\nOtwarte zajęcia muzyczne “Śpiawaj Dusza”\, godz. 13.00 (J. Ostapczuk)\n\n25.01 (czwartek) \n\nZajęcia plastyczne pod hasłem „Lalki teatralne”\, godz. 13.30 (instr. M. Mieleszko i D. Sulżyk)\n\n26.01 (piątek)\n \n\nZajęcia taneczne „BRAWO”\, godz. 12.00 (instr. M. Łotysz)\nZajęcia taneczne „ZabawowyMIX MINImini”\, godz. 16.00 (instr. M. Łotysz)\n\n27.01 (sobota) \n\nOtwarte zajęcia muzyczne „VenaMini”\, godz. 12.00 (instr. A. Trochimczyk)\n\n30.01 (wtorek) \n\nZajęcia taneczne „BRAWO”\, godz. 12.00 (instr. M. Łotysz)\nZajęcia plastyczne pod hasłem “Maski”\, godz. 15.00 (instr. M. Mieleszko\nZajęcia gitarowe\, godz. 16.30 (instr. Paweł Oziabło)\nZajęcia taneczne „ZabawowyMIX Starszaki”\, godz. 17.00 (instr. M. Łotysz)\n\n31.01 (środa) \n\nZajęcia w Przedszkolu Samorządowym pod hasłem „Improwizacje” (instr. M. Łotysz)\nOtwarte zajęcia muzyczne “Śpiawaj Dusza”\, godz. 13.00 (J. Ostapczuk)\n\n01.02 (czwartek)  \n\nWarsztaty teatralne z Akademią Teatralną\, godz. 12.00 (8-13 lat) \n\n02.02 (piątek)  \n\nSpektakl dla dzieci pt.: „Dobranoc Marvin!” w wyk. aktorów Akademii Teatralnej z warsztatami\, godz. 9.30 (od 4 lat)\n\n03.02 (sobota) \n\nOtwarte zajęcia muzyczne „VenaMini”\, godz. 12.00 (instr. A. Trochimczyk)\n\n  \n
URL:https://gckgrodek.pl/wydarzenie/ferie-zimowe-z-gck/
LOCATION:Gminne Centrum Kultury Gródku\, ul. A. i G. Chodkiewiczów 4\, Gródek\, 16-040
ATTACH;FMTTYPE=image/jpeg:https://gckgrodek.pl/wp-content/uploads/2018/01/plakat_ferie_18-—-kopia.jpg
END:VEVENT
END:VCALENDAR