BEGIN:VCALENDAR
VERSION:2.0
PRODID:-//Gminne Centrum Kultury w Gródku - ECPv4.9.5//NONSGML v1.0//EN
CALSCALE:GREGORIAN
METHOD:PUBLISH
X-WR-CALNAME:Gminne Centrum Kultury w Gródku
X-ORIGINAL-URL:https://gckgrodek.pl
X-WR-CALDESC:Events for Gminne Centrum Kultury w Gródku
BEGIN:VTIMEZONE
TZID:"Europe/Warsaw"
BEGIN:DAYLIGHT
TZOFFSETFROM:+0100
TZOFFSETTO:+0200
TZNAME:CEST
DTSTART:20230326T010000
END:DAYLIGHT
BEGIN:STANDARD
TZOFFSETFROM:+0200
TZOFFSETTO:+0100
TZNAME:CET
DTSTART:20231029T010000
END:STANDARD
END:VTIMEZONE
BEGIN:VEVENT
DTSTART;TZID="Europe/Warsaw":20230313T080000
DTEND;TZID="Europe/Warsaw":20230313T170000
DTSTAMP:20260420T112102
CREATED:20230213T102345Z
LAST-MODIFIED:20230213T102522Z
UID:16772-1678694400-1678726800@gckgrodek.pl
SUMMARY:DZIEŃ KOBIET
DESCRIPTION:10 marca\, godz. 19.00 \nZajazd przy Granicy  \nW programie:\n– zabawa z DJem\n– konkursy z nagrodami \nZapisy: 727 004 501 do dn. 07.03.2023 r. \n120 zł/osoba – 2 dania gorące\, przystawki\, napoje\, kawa i herbata\, ciasto oraz oprawa muzyczna \n  \n
URL:https://gckgrodek.pl/wydarzenie/dzien-kobiet/
LOCATION:Zajazd przy Granicy
CATEGORIES:Spotkania
ATTACH;FMTTYPE=image/jpeg:https://gckgrodek.pl/wp-content/uploads/2023/02/Bez-nazwy-1-—-kopia.jpg
ORGANIZER;CN="Gminne%20Centrum%20Kultury%20w%20Gr%C3%B3dku":MAILTO:biuro@gckgrodek.pl
END:VEVENT
END:VCALENDAR