BEGIN:VCALENDAR
VERSION:2.0
PRODID:-//Gminne Centrum Kultury w Gródku - ECPv4.9.5//NONSGML v1.0//EN
CALSCALE:GREGORIAN
METHOD:PUBLISH
X-WR-CALNAME:Gminne Centrum Kultury w Gródku
X-ORIGINAL-URL:https://gckgrodek.pl
X-WR-CALDESC:Events for Gminne Centrum Kultury w Gródku
BEGIN:VTIMEZONE
TZID:"Europe/Warsaw"
BEGIN:DAYLIGHT
TZOFFSETFROM:+0100
TZOFFSETTO:+0200
TZNAME:CEST
DTSTART:20210328T010000
END:DAYLIGHT
BEGIN:STANDARD
TZOFFSETFROM:+0200
TZOFFSETTO:+0100
TZNAME:CET
DTSTART:20211031T010000
END:STANDARD
END:VTIMEZONE
BEGIN:VEVENT
DTSTART;TZID="Europe/Warsaw":20210821T170000
DTEND;TZID="Europe/Warsaw":20210822T010000
DTSTAMP:20260419T202240
CREATED:20210813T084555Z
LAST-MODIFIED:20210817T112616Z
UID:16100-1629565200-1629594000@gckgrodek.pl
SUMMARY:DOŻYNKI GMINNE W WIEJKACH
DESCRIPTION:Wójt Gminy Gródek\, Gminne Centrum Kultury w Gródku oraz Sołtys i Mieszkańcy wsi Wiejki serdecznie zapraszają na Dożynki Gminne – ludowe święto połączone z obrzędami dziękczynnymi za ukończenie żniw i prac polowych. W tym roku święto plonów odbędzie się w jednej ze wsi Wiejki (gm. Gródek)  – wśród pól uprawnych i łąk. \nW programie: \n– korowód i obrzęd dożynkowy; \n– poświęcenie plonów przez duchownych; \n– wystawa w ramach wydarzenia pn. “II Festiwal Tkactwa” \n– konkursy; \n– wspólne ognisko; \n– koncerty zespołów z gminy Gródek; \n– koncerty GWIAZD WIECZORU: Kresovki\, MaKsim\, Lailand\, Metro; \nPonadto gastronomia: Gospoda Michałowo i BasiaFoodtruck oraz stoiska handlowe. \n  \nW ramach wydarzenia odbędzie się “Zabawa w Wiejkach” z cyklu letnich zabaw przy muzyce białoruskiej w gminie Gródek\, którą zrealizowano dzięki dotacji Ministerstwa Spraw Wewnętrznych i Administracji. \nPatronat medialny: \n– Portal bialostockie.eu \n– Wiadomości Gródeckie – Haradockija Nawiny \nPartner: \n\nGospoda Michałowo\n\n  \nWydarzenie na facebook’u: https://www.facebook.com/events/1266246587175542/ \n \n  \n
URL:https://gckgrodek.pl/wydarzenie/dozynki-gminne-w-wiejkach/
LOCATION:Budynek Szkoły w Wiejkach\, Wiejki\, Gródek\, Podlaskie\, 16-040
CATEGORIES:Imprezy plenerowe
ATTACH;FMTTYPE=image/jpeg:https://gckgrodek.pl/wp-content/uploads/2021/08/dozynki21-—-kopia.jpg
ORGANIZER;CN="Gminne%20Centrum%20Kultury%20w%20Gr%C3%B3dku":MAILTO:biuro@gckgrodek.pl
END:VEVENT
END:VCALENDAR