BEGIN:VCALENDAR
VERSION:2.0
PRODID:-//Gminne Centrum Kultury w Gródku - ECPv4.9.5//NONSGML v1.0//EN
CALSCALE:GREGORIAN
METHOD:PUBLISH
X-WR-CALNAME:Gminne Centrum Kultury w Gródku
X-ORIGINAL-URL:https://gckgrodek.pl
X-WR-CALDESC:Events for Gminne Centrum Kultury w Gródku
BEGIN:VTIMEZONE
TZID:"Europe/Warsaw"
BEGIN:DAYLIGHT
TZOFFSETFROM:+0100
TZOFFSETTO:+0200
TZNAME:CEST
DTSTART:20180325T010000
END:DAYLIGHT
BEGIN:STANDARD
TZOFFSETFROM:+0200
TZOFFSETTO:+0100
TZNAME:CET
DTSTART:20181028T010000
END:STANDARD
END:VTIMEZONE
BEGIN:VEVENT
DTSTART;VALUE=DATE:20180614
DTEND;VALUE=DATE:20181001
DTSTAMP:20260422T082514
CREATED:20180614T151429Z
LAST-MODIFIED:20180614T151801Z
UID:9850-1528934400-1538351999@gckgrodek.pl
SUMMARY:Wystawa fotografii pn. „Śladami zapomnianego Podlasia - nasza tożsamość w pamięci przyszłych pokoleń”
DESCRIPTION:W naszym domu kultury można obejrzeć wystawę fotografii pn. „Śladami zapomnianego Podlasia – nasza tożsamość w pamięci przyszłych pokoleń”. Dziękujemy za udostępnienie dla Urzędu Marszałkowskiego Województwa Podlaskiego oraz Fundacji Zapomniane Podlasie. Wystawę można oglądać w godzinach pracy GCK do końca września. \n \n\nPomysł wystawy narodził się podczas wędrówek po wiejskich\, przygranicznych obszarach województwa podlaskiego. Autorzy zdjęć spotkali na swojej drodze wiele pięknych\, ulegających degradacji zabytków\, także ich życzliwych gospodarzy. Uświadomiło im to\, jak mało wiemy o bogactwie kulturowym i religijnym Podlasia\, które ulega powolnemu zapomnieniu. Chcąc temu zapobiec\, podjęli się misji ochrony lokalnego dziedzictwa kulturowego i piękna drewnianej architektury Podlasia\, bowiem tylko religia\, język i obyczaje mogą pozwolić na zachowanie tożsamości obecnych i przyszłych pokoleń. \nNa fotografiach zostały uwiecznione drewniane\, wiekowe obiekty sakralne\, kapliczki oraz tradycyjne zabudowania wiejskie z regionu. Zyskają one szanse na włączenie ich w kulturowo-turystyczne szlaki\, obejmujące zasięgiem teren województwa podlaskiego: Podlaski Szlak Kulturowy Drzewo i Sacrum\, Szlak Rękodzieła Ludowego\, Szlak Frontu Wschodniego I Wojny Światowej\, staną się tez niezwykła atrakcja Wschodniego Szlaku Rowerowego Green Veloo. \nPrzedsięwzięcie ma na celu ukazanie niepowtarzalnej mozaiki etniczno-religijnej regionu\, skłonienie do refleksji i przyczynienie się do wzmocnienia poczucia tożsamości oraz więzi emocjonalnych mieszkańców regionu z jego dziedzictwem kulturowym. Ponadto powinno stać się inspiracja do dalszych działań w kierunku rewitalizacji społecznej zdegradowanych obszarów miejskich i wiejskich w oparciu o istniejący potencjał kulturowy i społeczny. \nza: wrotapodlasia.pl \n
URL:https://gckgrodek.pl/wydarzenie/9850/
LOCATION:Gminne Centrum Kultury Gródku\, ul. A. i G. Chodkiewiczów 4\, Gródek\, 16-040
CATEGORIES:Wystawy
ATTACH;FMTTYPE=image/jpeg:https://gckgrodek.pl/wp-content/uploads/2018/06/IMG_3069.jpg
ORGANIZER;CN="Gminne%20Centrum%20Kultury%20w%20Gr%C3%B3dku":MAILTO:biuro@gckgrodek.pl
END:VEVENT
END:VCALENDAR