BEGIN:VCALENDAR
VERSION:2.0
PRODID:-//Gminne Centrum Kultury w Gródku - ECPv4.9.5//NONSGML v1.0//EN
CALSCALE:GREGORIAN
METHOD:PUBLISH
X-WR-CALNAME:Gminne Centrum Kultury w Gródku
X-ORIGINAL-URL:https://gckgrodek.pl
X-WR-CALDESC:Events for Gminne Centrum Kultury w Gródku
BEGIN:VTIMEZONE
TZID:"Europe/Warsaw"
BEGIN:DAYLIGHT
TZOFFSETFROM:+0100
TZOFFSETTO:+0200
TZNAME:CEST
DTSTART:20240331T010000
END:DAYLIGHT
BEGIN:STANDARD
TZOFFSETFROM:+0200
TZOFFSETTO:+0100
TZNAME:CET
DTSTART:20241027T010000
END:STANDARD
END:VTIMEZONE
BEGIN:VEVENT
DTSTART;TZID="Europe/Warsaw":20240128T080000
DTEND;TZID="Europe/Warsaw":20240128T170000
DTSTAMP:20260420T140139
CREATED:20240115T111857Z
LAST-MODIFIED:20240115T111857Z
UID:17106-1706428800-1706461200@gckgrodek.pl
SUMMARY:32. FINAŁ WIELKIEJ ORKIESTRY ŚWIĄTECZNEJ POMOCY W GRÓDKU
DESCRIPTION:Bądź na bieżąco – zaobserwuj wospgrodek – stronę gródeckiego sztabu!  Znajdziesz tam m.in. fanty\, które będzie można kupić w dniu Finału w naszym sklepiku!\n\n32. Finał Wielkiej Orkiestry Świątecznej Pomocy w Gródku\n\nPlan 32. Finału w Gródku:\ngodz. 8.00 – odprawa wolontariuszy i start zbiórki oraz we wsiach gminy Gródek;\ngodz. 10.00 – otwarcie „wośpowego sklepiku” w budynku GCK. Do kupienia ciekawe fanty oraz słodkości;\ngodz. 11.00-13.00 – przejazdy autami terenowymi PODLASIE 4×4 (min. 30 zł. od osoby do puszki WOŚP); parking GCK\ngodz. 11.00-14.00 – akcja rejestracji potencjalnych dawców szpiku; GCK\ngodz. 12.00 – Wielkie Morsowanie nad zalewem w Zarzeczanach MORSY Gródek\nTRANSMISJE LIVE NA PROFILU GCK I SZTABU WOŚP W GRÓDKU\ngodz. 8.00 transmisja z odprawy wolontariuszy;\ngodz. 9.00 transmisja – prezentacja sklepiku przy GCK;\nok. godz. 17.00 transmisja z liczenia zebranych funduszy podczas 32. Finału WOŚP\n__\nBądź na bieżąco – zaobserwuj @wospgrodek – stronę gródeckiego sztabu! \n__\n„Płuca po pandemii. Gramy dla dzieci i dorosłych!”.\nMottem zbiórki jest „Tu wszystko gra OK!”.\n
URL:https://gckgrodek.pl/wydarzenie/32-final-wielkiej-orkiestry-swiatecznej-pomocy-w-grodku/
LOCATION:Gminne Centrum Kultury Gródku\, ul. A. i G. Chodkiewiczów 4\, Gródek\, 16-040
CATEGORIES:Wydarzenia charytatywne
ATTACH;FMTTYPE=image/jpeg:https://gckgrodek.pl/wp-content/uploads/2024/01/wosp-—-kopia.jpg
ORGANIZER;CN="Gminne%20Centrum%20Kultury%20w%20Gr%C3%B3dku":MAILTO:biuro@gckgrodek.pl
END:VEVENT
END:VCALENDAR