BEGIN:VCALENDAR
VERSION:2.0
PRODID:-//Gminne Centrum Kultury w Gródku - ECPv4.9.5//NONSGML v1.0//EN
CALSCALE:GREGORIAN
METHOD:PUBLISH
X-WR-CALNAME:Gminne Centrum Kultury w Gródku
X-ORIGINAL-URL:https://gckgrodek.pl
X-WR-CALDESC:Events for Gminne Centrum Kultury w Gródku
BEGIN:VTIMEZONE
TZID:"Europe/Warsaw"
BEGIN:DAYLIGHT
TZOFFSETFROM:+0100
TZOFFSETTO:+0200
TZNAME:CEST
DTSTART:20220327T010000
END:DAYLIGHT
BEGIN:STANDARD
TZOFFSETFROM:+0200
TZOFFSETTO:+0100
TZNAME:CET
DTSTART:20221030T010000
END:STANDARD
END:VTIMEZONE
BEGIN:VEVENT
DTSTART;TZID="Europe/Warsaw":20220130T090000
DTEND;TZID="Europe/Warsaw":20220130T170000
DTSTAMP:20260420T125934
CREATED:20211229T145423Z
LAST-MODIFIED:20220830T081924Z
UID:16299-1643533200-1643562000@gckgrodek.pl
SUMMARY:30. FINAŁ WOŚP W GRÓDKU
DESCRIPTION: \n30. Finał WOŚP zagra 30 stycznia 2022 roku\nDla zapewnienia najwyższych standardów diagnostyki i leczenia wzroku u dzieci \n \n CZY W TYM ROKU POBIJEMY REKORD GMINY GRÓDEK? RAZEM DAMY RADĘ\nChcesz wesprzeć nasz sztab? Jesteśmy otwarci na wszystkie propozycje! Fanty przyjmujemy w godzinach pracy GCK. Masz ochotę upiec słodkości do sklepiku? Daj nam znać!\n\ngodz. 8.00 – odprawa wolontariuszy i start zbiórki na ulicach Gródka oraz we wsiach gminy Gródek;\ngodz. 10.00 – otwarcie „wośpowego sklepiku” przed budynkiem GCK. Do kupienia ciekawe\, fanty oraz słodkości;\ngodz. 16.00 – koncert zespołu OBRAZ KONTROLNY\, s. widowiskowa\, wejście za datek do puszki;\n\n Wejścia „NA ŻYWO” w dniu 30. Finału WOŚP na stronie GCK na facebook’u: /grodekgck \ngodz. 8.00 transmisja z odprawy wolontariuszy;\ngodz. 10.00 transmisja – prezentacja sklepiku przy GCK;\ngodz. 12.00 transmisja z morsowania z Zalewu w Zarzeczanach;\ngodz. 16.00 transmisja koncertu zespołu OBRAZ KONTROLNY ;\nok. godz. 17.00 transmisja z liczenia zebranych funduszy podczas 30. Finału WOŚP;\nPamiętajmy o zasadach bezpieczeństwa! Dbajmy o siebie i innych!\n\n Strona z fantami itp.: /wospgrodek\n Strona GCK: /grodekgck\n NASZA eSkarbonkahttps://tiny.pl/9153p\nFinał WOŚP to jednodniowa zbiórka publiczna\, organizowana przez Fundację Wielka Orkiestra Świątecznej Pomocy. Od wielu lat Finałom WOŚP towarzyszą także akcje internetowe i wydarzenia zamknięte\, które rozpoczynają się już na początku grudnia.    \nWzrok to najważniejszy zmysł człowieka. Jakiekolwiek problemy z nim związane wpływają na ogólny rozwój i poznawanie świata\, dlatego tak istotne jest szybkie stwierdzenie ewentualnych nieprawidłowości i podjęcie leczenia\, a czynnikiem niezbędnym do prawidłowej diagnozy i wdrożenia terapii jest nowoczesny sprzęt\, którego polskim placówkom brakuje. \nOddziały i pododdziały okulistyki dziecięcej oraz wydzielone łóżka dziecięce w oddziałach okulistyki dla dorosłych działają w 25 ośrodkach w 17 miastach Polski. W całym kraju są też poradnie okulistyki dziecięcej\, które również wymagają wyposażenia w nowoczesny sprzęt okulistyczny. Rokrocznie na oddziałach okulistyki dziecięcej hospitalizowanych jest kilkanaście tysięcy pacjentów. Jednymi z najczęstszych powodów\, dla których dzieci trafiają do specjalistów z zakresu okulistyki\, są – poza pogorszeniem ostrości wzroku – jaskra\, zaćma\, różnego rodzaju urazy\, anomalie rozwojowe i nowotwory. Wiele tych schorzeń wymaga wykonania zabiegów operacyjnych – w 2019 roku przeprowadzono ich blisko 650\, z czego najwięcej\, ponad 25%\, stanowiły operacje guzów*. Specjaliści uwagę zwracają również na krótkowzroczność wśród dzieci i młodzieży\, która w coraz większej liczbie krajów przybiera charakter epidemiczny\, co ma bezpośredni związek z nadmiernym korzystaniem z urządzeń elektronicznych. \n30. Finał – co między innymi będziemy kupować? \n\nangiograf dwupłaszczyznowy do leczenia siatkówczaka – najczęstszego nowotworu złośliwego gałki ocznej u dzieci\noftalmoskopy do badania dna oka\nlampy szczelinowe do diagnostyki przedniego odcinka oka\ntonometry do pomiaru ciśnienia śródgałkowego (rogówki i soczewki)\nsynoptofory do pomiaru kąta zeza\nurządzenia OCT do bezinwazyjnej diagnostyki schorzeń\ntomografia dna oka\nmikroskopy\nstoły operacyjne\n\n
URL:https://gckgrodek.pl/wydarzenie/30-final-wosp-w-grodku/
LOCATION:Gminne Centrum Kultury Gródku\, ul. A. i G. Chodkiewiczów 4\, Gródek\, 16-040
CATEGORIES:Koncerty
ATTACH;FMTTYPE=image/jpeg:https://gckgrodek.pl/wp-content/uploads/2021/12/272035791_5073390982692553_6424833479868406896_n.jpg
ORGANIZER;CN="Gminne%20Centrum%20Kultury%20w%20Gr%C3%B3dku":MAILTO:biuro@gckgrodek.pl
END:VEVENT
END:VCALENDAR