BEGIN:VCALENDAR
VERSION:2.0
PRODID:-//Gminne Centrum Kultury w Gródku - ECPv4.9.5//NONSGML v1.0//EN
CALSCALE:GREGORIAN
METHOD:PUBLISH
X-WR-CALNAME:Gminne Centrum Kultury w Gródku
X-ORIGINAL-URL:https://gckgrodek.pl
X-WR-CALDESC:Events for Gminne Centrum Kultury w Gródku
BEGIN:VTIMEZONE
TZID:"Europe/Warsaw"
BEGIN:DAYLIGHT
TZOFFSETFROM:+0100
TZOFFSETTO:+0200
TZNAME:CEST
DTSTART:20250330T010000
END:DAYLIGHT
BEGIN:STANDARD
TZOFFSETFROM:+0200
TZOFFSETTO:+0100
TZNAME:CET
DTSTART:20251026T010000
END:STANDARD
END:VTIMEZONE
BEGIN:VEVENT
DTSTART;TZID="Europe/Warsaw":20251018T150000
DTEND;TZID="Europe/Warsaw":20251018T170000
DTSTAMP:20260422T102636
CREATED:20251015T131234Z
LAST-MODIFIED:20251015T131622Z
UID:17733-1760799600-1760806800@gckgrodek.pl
SUMMARY:SPEKTAKL DAWNE ZABAWKI
DESCRIPTION:𝗦𝗽𝗲𝗸𝘁𝗮𝗸𝗹 „𝗗𝗮𝘄𝗻𝗲 𝘇𝗮𝗯𝗮𝘄𝗸𝗶 𝗹𝘂𝗱𝗼𝘄𝗲” 𝘄 𝗚𝗿𝗼́𝗱𝗸𝘂Godzina: 15:00Miejsce: Gminne Centrum Kultury w GródkuWstęp wolny\nKameralny spektakl dla dzieci i rodzin z muzyką na żywo.\nW trakcie przedstawienia dzieci poznają dawne zabawki\, melodie i instrumenty muzyczne. W zabawny i ciekawy sposób prezentowane są ręcznie wykonane drewniane zabawki wyrzeźbione przez Piotra Rogalińskiego według dawnych polskich wzorów.\nSpektakl nawiązuje do bogatego dziedzictwa kulturowego Polski\, ukazując piękno i wartość twórczości ludowej.\nWystąpi Kapela Odloty w składzie:\nTeofil Pawłowski – cymbały\, harmonia\, skrzypcePiotr Rogaliński – baraban\, bębenek obręczowy\, basyScenografia i zabawki: Piotr Rogaliński\nPrzedstawienie odbywa się z muzyką na żywo w tradycyjnej oprawie: harmonia\, baraban\, skrzypce\, basy\, cymbały i bębenek obręczowy. Publiczność usłyszy polki\, oberki\, wiwaty\, marsze i inne dawne melodie.\nPo spektaklu będzie można zobaczyć zabawki z bliska\, zrobić pamiątkowe zdjęcia\, a jeśli widzowie wyrażą chęć – wspólnie z kapelą wziąć udział w krótkiej zabawie muzycznej.\n\n—Dofinansowano ze środków Ministerstwa Kultury i Dziedzictwa Narodowego w ramach programu Narodowego Centrum Kultury – Kultura Interwencje. Edycja 2025 \n\n\n
URL:https://gckgrodek.pl/wydarzenie/17733/
LOCATION:Gminne Centrum Kultury Gródku\, ul. A. i G. Chodkiewiczów 4\, Gródek\, 16-040
CATEGORIES:Teatr
ATTACH;FMTTYPE=image/jpeg:https://gckgrodek.pl/wp-content/uploads/2025/10/spektakl.jpg
ORGANIZER;CN="Gminne%20Centrum%20Kultury%20w%20Gr%C3%B3dku":MAILTO:biuro@gckgrodek.pl
END:VEVENT
END:VCALENDAR