BEGIN:VCALENDAR
VERSION:2.0
PRODID:-//Gminne Centrum Kultury w Gródku - ECPv4.9.5//NONSGML v1.0//EN
CALSCALE:GREGORIAN
METHOD:PUBLISH
X-WR-CALNAME:Gminne Centrum Kultury w Gródku
X-ORIGINAL-URL:https://gckgrodek.pl
X-WR-CALDESC:Events for Gminne Centrum Kultury w Gródku
BEGIN:VTIMEZONE
TZID:"Europe/Warsaw"
BEGIN:DAYLIGHT
TZOFFSETFROM:+0100
TZOFFSETTO:+0200
TZNAME:CEST
DTSTART:20260329T010000
END:DAYLIGHT
BEGIN:STANDARD
TZOFFSETFROM:+0200
TZOFFSETTO:+0100
TZNAME:CET
DTSTART:20261025T010000
END:STANDARD
END:VTIMEZONE
BEGIN:VEVENT
DTSTART;TZID="Europe/Warsaw":20260319T170000
DTEND;TZID="Europe/Warsaw":20260319T190000
DTSTAMP:20260422T113016
CREATED:20260304T120041Z
LAST-MODIFIED:20260304T120041Z
UID:18902-1773939600-1773946800@gckgrodek.pl
SUMMARY:ŚLADAMI WIELKANOCNYCH TRADYCJI
DESCRIPTION:Zbliżają się święta Wielkanocne Zachęcamy dzieci\, młodzież i dorosłych do wzięcia udziału w nietypowych warsztatach Krótka lekcja historii o dawnych zwyczajach i tradycjach wielkanocnych oraz zdobienie wydmuszek woskiem \n19 MARCA (CZWARTEK)\, godz. 17.00 \n\nopowieści o dawnych tradycjach i zwyczajach wielkanocnych (Dorota Sulżyk)\nwarsztaty zdobienia wydmuszek metodą woskową (Natalia Wenclik-Olszewska)\nZapisy: zapisy@gckgrodek.pl (do 16 marca) Wiek uczestników: 11 lat\nLiczba miejsc ograniczona! Koszt uczestnictwa: 10 zł / osoba (zapewniamy materiały)\n\n
URL:https://gckgrodek.pl/wydarzenie/sladami-wielkanocnych-tradycji/
LOCATION:Gminne Centrum Kultury Gródku\, ul. A. i G. Chodkiewiczów 4\, Gródek\, 16-040
CATEGORIES:Warsztaty
ATTACH;FMTTYPE=image/jpeg:https://gckgrodek.pl/wp-content/uploads/2026/03/wielkanocne-—-kopia.jpg
ORGANIZER;CN="Gminne%20Centrum%20Kultury%20w%20Gr%C3%B3dku":MAILTO:biuro@gckgrodek.pl
END:VEVENT
END:VCALENDAR