BEGIN:VCALENDAR
VERSION:2.0
PRODID:-//Gminne Centrum Kultury w Gródku - ECPv4.9.5//NONSGML v1.0//EN
CALSCALE:GREGORIAN
METHOD:PUBLISH
X-WR-CALNAME:Gminne Centrum Kultury w Gródku
X-ORIGINAL-URL:https://gckgrodek.pl
X-WR-CALDESC:Events for Gminne Centrum Kultury w Gródku
BEGIN:VTIMEZONE
TZID:"Europe/Warsaw"
BEGIN:DAYLIGHT
TZOFFSETFROM:+0100
TZOFFSETTO:+0200
TZNAME:CEST
DTSTART:20260329T010000
END:DAYLIGHT
BEGIN:STANDARD
TZOFFSETFROM:+0200
TZOFFSETTO:+0100
TZNAME:CET
DTSTART:20261025T010000
END:STANDARD
END:VTIMEZONE
BEGIN:VEVENT
DTSTART;TZID="Europe/Warsaw":20260125T080000
DTEND;TZID="Europe/Warsaw":20260125T170000
DTSTAMP:20260422T142114
CREATED:20260120T100835Z
LAST-MODIFIED:20260120T100835Z
UID:17921-1769328000-1769360400@gckgrodek.pl
SUMMARY:34. FINAŁ WOŚP W GRÓDKU
DESCRIPTION:\n34. Finał WOŚP zagra 25 stycznia 2026 roku.\nCel 34. Finału WOŚP to:\n\nDiagnostyka i leczenie chorób przewodu pokarmowego u najmłodszych pacjentów.\nGramy z hasłem:\nZdrowe brzuszki naszych dzieci\n\ngodz. 8.00 – odprawa wolontariuszy i start zbiórki w Gródku oraz we wsiach gminy Gródek; otwarcie „wośpowego sklepiku” w budynku GCK. Do kupienia ciekawe fanty oraz słodkości;\ngodz. 10.00 – 13.00 – przejazdy autami terenowymi PODLASIE 4×4 (min. 30 zł. od osoby do puszki WOŚP); parking GCK\ngodz. 11.00 – 14.00 – akcja rejestracji potencjalnych dawców szpiku przez OSP GRÓDEK; Izba Pamięci w budynku GCK\ngodz. 12.00 – Wielkie Morsowanie nad zalewem w Zarzeczanach MORSY Gródek\nJeżeli nie możecie bezpośrednio wziąć udziału w Finale zapraszamy do wspierania naszej E-skarbonki: https://eskarbonka.wosp.org.pl/lagogidady\nCały czas szukamy fantów do naszego sklepiku  Słodkości\, gadżety\, rękodzieło\, vouchery…. jesteśmy otwarci na wszystkie propozycje  Kontakt z nami – messenger oraz osobiście w godzinach pracy GCK\nTRANSMISJE LIVE NA PROFILU GCK:24.01.2026 – popołudniowa transmisja – prezentacja wośpowego sklepiku\n25.01 .2026– godz. 8.00 transmisja z odprawy wolontariuszy;– godz. 12.00 transmisja z Wielkiego Morsowania– ok. godz. 17.00 transmisja z liczenia zebranych funduszy podczas 34. Finału WOŚP\n
URL:https://gckgrodek.pl/wydarzenie/34-final-wosp-w-grodku/
LOCATION:Gminne Centrum Kultury Gródku\, ul. A. i G. Chodkiewiczów 4\, Gródek\, 16-040
CATEGORIES:Wydarzenia charytatywne
ATTACH;FMTTYPE=image/jpeg:https://gckgrodek.pl/wp-content/uploads/2026/01/plakat_wosp_26-—-kopia.jpg
END:VEVENT
END:VCALENDAR