BEGIN:VCALENDAR
VERSION:2.0
PRODID:-//Gminne Centrum Kultury w Gródku - ECPv4.9.5//NONSGML v1.0//EN
CALSCALE:GREGORIAN
METHOD:PUBLISH
X-WR-CALNAME:Gminne Centrum Kultury w Gródku
X-ORIGINAL-URL:https://gckgrodek.pl
X-WR-CALDESC:Events for Gminne Centrum Kultury w Gródku
BEGIN:VTIMEZONE
TZID:"Europe/Warsaw"
BEGIN:DAYLIGHT
TZOFFSETFROM:+0100
TZOFFSETTO:+0200
TZNAME:CEST
DTSTART:20250330T010000
END:DAYLIGHT
BEGIN:STANDARD
TZOFFSETFROM:+0200
TZOFFSETTO:+0100
TZNAME:CET
DTSTART:20251026T010000
END:STANDARD
END:VTIMEZONE
BEGIN:VEVENT
DTSTART;TZID="Europe/Warsaw":20251211T170000
DTEND;TZID="Europe/Warsaw":20251211T183000
DTSTAMP:20260422T161208
CREATED:20251203T133758Z
LAST-MODIFIED:20251203T133758Z
UID:17875-1765472400-1765477800@gckgrodek.pl
SUMMARY:SPOTKANIE Z HANNĄ KONDRATIUK
DESCRIPTION:\nZapraszamy na spotkanie z pisarką\, dziennikarką i reporterką Hanną Kondratiuk oraz prezentację jej najnowszej książki „Prosta z lubowi. Reparciorskija partrety pamiaci”. Książka ta jest zbiorem siedmiu historii ludzi\, którzy zostawili jaskrawy ślad w białoruskiej i polskiej kulturze: Kastuś Kalinouski\, ks. Jerzy Popiełuszko\, św. Maria (Pietruczuk)\, Aleś Puszkin i inni.\n\n\n11 grudnia – Gródek\, Gminne Centrum Kultury w Gródku\ngodz. 17.00\n\n\nKilka słów o Autorce:\nHanna Kandraciuk (Anna Kondratiuk-Świerubska) urodziła się w Hajnówce na Podlasiu. Ukończyła Uniwersytet Warszawski. Opublikowała siedem książek: W stronę Tarasewicza (2002)\, Царская трызна (2007)\, Дзядоўскае турнэ з Анатолем С. (2010)\, Bіałoruś. Miłość i marazm (2013)\, Па Прыпяці па Нобель (2017)\, У прысценку старога лесу. Гісторыі людзей з Белавежскай пушчы (2022)\, Проста з любові. Рэпарцёрскія партрэты памяці (2025). Jej książki i opowiadania zostały przetłumaczone na język polski i angielski. Laureatka literackich nagród Jerzego Giedroycia i Alesia Adamovicha. Od 1993 roku pracuje w Tygodniku Białorusinów w Polsce „Niwa” dla wielu pokoleń młodych czytaczy\, przede wszystkim jest znana jako redaktorka dodatku dziecięcego „Zorka”. Mieszka w Białymstoku.\n________________\nOrganizator spotkania: Centrum Kultury Białoruskiej w Białymstoku/Цэнтр беларускай культуры\n\n
URL:https://gckgrodek.pl/wydarzenie/spotkanie-z-hanna-kondratiuk/
LOCATION:Gminne Centrum Kultury Gródku\, ul. A. i G. Chodkiewiczów 4\, Gródek\, 16-040
CATEGORIES:Spotkania
ATTACH;FMTTYPE=image/jpeg:https://gckgrodek.pl/wp-content/uploads/2025/12/593303373_1154684496815597_3817758240212110125_n.jpg
END:VEVENT
END:VCALENDAR