BEGIN:VCALENDAR
VERSION:2.0
PRODID:-//Gminne Centrum Kultury w Gródku - ECPv4.9.5//NONSGML v1.0//EN
CALSCALE:GREGORIAN
METHOD:PUBLISH
X-WR-CALNAME:Gminne Centrum Kultury w Gródku
X-ORIGINAL-URL:https://gckgrodek.pl
X-WR-CALDESC:Events for Gminne Centrum Kultury w Gródku
BEGIN:VTIMEZONE
TZID:"Europe/Warsaw"
BEGIN:DAYLIGHT
TZOFFSETFROM:+0100
TZOFFSETTO:+0200
TZNAME:CEST
DTSTART:20250330T010000
END:DAYLIGHT
BEGIN:STANDARD
TZOFFSETFROM:+0200
TZOFFSETTO:+0100
TZNAME:CET
DTSTART:20251026T010000
END:STANDARD
END:VTIMEZONE
BEGIN:VEVENT
DTSTART;TZID="Europe/Warsaw":20251005T140000
DTEND;TZID="Europe/Warsaw":20251005T160000
DTSTAMP:20260422T184911
CREATED:20250915T130022Z
LAST-MODIFIED:20250915T130059Z
UID:17699-1759672800-1759680000@gckgrodek.pl
SUMMARY:OTWARCIE IZBY PAMIĘCI
DESCRIPTION:Serdecznie zapraszamy na Wielkie Otwarcie Izby Pamięci Gminy Gródek\, które przypada na 60-lecie budowy domu kultury w Gródku. Idea powstania muzeum zrodziła się  w 2023 r. podczas trwania pilotażowego projektu Narodowego Instytutu Muzeów „Izby Pamięci”. W Gródku brakowało miejsca\, które byłoby sercem i skarbnicą historii gminy Gródek. \n„Gdy organizowaliśmy wystawy np. o okresie PRL\, czy o działalności zakładu Karo\, po ich zakończeniu nie było konkretnego miejsca\, żeby przechować nieraz bardzo cenne eksponaty. Ludzie często przynoszą różnego rodzaju przedmioty z dawnych lat\, które wyrzuciliby na śmietnik\, my chcemy to zabezpieczyć i zachować dla przyszłych pokoleń. Izba da nam taką możliwość.” – mówi Magdalena Łotysz – Dyrektorka GCK. \nGminne Centrum Kultury otrzymało blisko 200 tysięcy złotych w dwóch etapach tego projektu na zbieranie\, archiwizację eksponatów\, a następnie na kompleksowy remont pomieszczenia – byłej sali konferencyjnej i jej całkowite wyposażenie na potrzeby muzem. Powstały m.in. kaflowy piec kuchenny z aranżacją wiejskiej chaty\, gabloty i ścianki informacyjne oraz strefa warsztatowa. Ponadto sala wzbogaciła się w profesjonalny system audio-wizualny oraz kiosk informacyjny. \nEksponaty znajdujące się w naszej Izbie Pamięci to dary mieszkańców\, które zbierane były w 2024 roku. Zamierzeniem GCK jest uświadomienie – głównie młodszych pokoleń\, jak ciężko żyło się dawniej\, gdy do wszystkiego trzeba było dojść pracą własnych rąk\, nie mając elektryczności\, Internetu i nowoczesnych maszyn. \nIzba Pamięci Gminy Gródek jest przede wszystkim miejscem służącym do przekazywania wartości edukacyjnych kolejnym pokoleniom. To właśnie dzięki historii\, zarówno materialnej\, jak i tej przekazywanej ustnie stajemy się bogatszymi ludźmi. \n  \n
URL:https://gckgrodek.pl/wydarzenie/otwarcie-izby-pamieci/
LOCATION:Gminne Centrum Kultury Gródku\, ul. A. i G. Chodkiewiczów 4\, Gródek\, 16-040
CATEGORIES:Jubileusze,Spotkania
ATTACH;FMTTYPE=image/jpeg:https://gckgrodek.pl/wp-content/uploads/2025/09/otwarcie_ipgg-—-kopia.jpg
ORGANIZER;CN="Gminne%20Centrum%20Kultury%20w%20Gr%C3%B3dku":MAILTO:biuro@gckgrodek.pl
END:VEVENT
END:VCALENDAR