BEGIN:VCALENDAR
VERSION:2.0
PRODID:-//Gminne Centrum Kultury w Gródku - ECPv4.9.5//NONSGML v1.0//EN
CALSCALE:GREGORIAN
METHOD:PUBLISH
X-WR-CALNAME:Gminne Centrum Kultury w Gródku
X-ORIGINAL-URL:https://gckgrodek.pl
X-WR-CALDESC:Events for Gminne Centrum Kultury w Gródku
BEGIN:VTIMEZONE
TZID:"Europe/Warsaw"
BEGIN:DAYLIGHT
TZOFFSETFROM:+0100
TZOFFSETTO:+0200
TZNAME:CEST
DTSTART:20250330T010000
END:DAYLIGHT
BEGIN:STANDARD
TZOFFSETFROM:+0200
TZOFFSETTO:+0100
TZNAME:CET
DTSTART:20251026T010000
END:STANDARD
END:VTIMEZONE
BEGIN:VEVENT
DTSTART;TZID="Europe/Warsaw":20250807T180000
DTEND;TZID="Europe/Warsaw":20250807T230000
DTSTAMP:20260422T214002
CREATED:20250804T130830Z
LAST-MODIFIED:20250804T130830Z
UID:17670-1754589600-1754607600@gckgrodek.pl
SUMMARY:ZABAWA NA ANNĘ W KRÓLOWYM MOŚCIE
DESCRIPTION:Zabawa „na Annę” w Królowym Moście – 7 sierpnia\, godz. 18.00\, boisko w Królowym Moście\nKrólowy Most to słynna miejscowość z polskiego filmu fabularnego pt. „U Pana Boga za piecem” i kolejnych jego części. To właśnie tutaj\, tradycyjnie 7 sierpnia w dzień pamięci św. Anny (wg. kalendarza juliańskiego) odbędzie się zabawa taneczna.Wydarzenie odbędzie się na boisku w Królowym Moście.\nPodczas wydarzenia zimne napoje serwować będzie Gospoda Michałowo. Będzie również foodtruck.\nOrganizatorem zabawy jest Gminne Centrum Kultury w Gródku przy współpracy z sołectwami Królowy Most i Kołodno.__Zabawa jest organizowana w ramach projektu pn. „Cykl letnich zabaw przy muzyce białoruskiej w Gminie Gródek” dofinansowanego przez Ministerstwo Spraw Wewnętrznych i Administracji.\n
URL:https://gckgrodek.pl/wydarzenie/zabawa-na-anne-w-krolowym-moscie-7/
LOCATION:Królowy Most\, Królowy Most\, Gródek\, 16-040
CATEGORIES:Imprezy plenerowe
ATTACH;FMTTYPE=image/jpeg:https://gckgrodek.pl/wp-content/uploads/2025/08/plakat-—-kopia.jpg
END:VEVENT
END:VCALENDAR