BEGIN:VCALENDAR
VERSION:2.0
PRODID:-//Gminne Centrum Kultury w Gródku - ECPv4.9.5//NONSGML v1.0//EN
CALSCALE:GREGORIAN
METHOD:PUBLISH
X-WR-CALNAME:Gminne Centrum Kultury w Gródku
X-ORIGINAL-URL:https://gckgrodek.pl
X-WR-CALDESC:Events for Gminne Centrum Kultury w Gródku
BEGIN:VTIMEZONE
TZID:"Europe/Warsaw"
BEGIN:DAYLIGHT
TZOFFSETFROM:+0100
TZOFFSETTO:+0200
TZNAME:CEST
DTSTART:20250330T010000
END:DAYLIGHT
BEGIN:STANDARD
TZOFFSETFROM:+0200
TZOFFSETTO:+0100
TZNAME:CET
DTSTART:20251026T010000
END:STANDARD
END:VTIMEZONE
BEGIN:VEVENT
DTSTART;TZID="Europe/Warsaw":20250726T170000
DTEND;TZID="Europe/Warsaw":20250727T010000
DTSTAMP:20260422T224620
CREATED:20250701T103446Z
LAST-MODIFIED:20250724T130919Z
UID:17643-1753549200-1753578000@gckgrodek.pl
SUMMARY:XXV MIEDZYNARODOWY FESTIWAL SIABROUSKAJA BIASIEDA
DESCRIPTION:\n\n„Hej Siabrouskaja Biasieda hulać treba\, hulać treba…”\nXXV Międzynarodowy Festiwal Siabrouskaja Biasieda – 26 lipca 2025\,\namfiteatr nad zalewem w Zarzeczanach\n  \nFestiwal Siabrouskaja Biasieda to jedna z ważniejszych imprez kulturalnych prezentująca dorobek kulturowy regionu i twórczość ludową z głównym naciskiem na kulturę mniejszości białoruskiej. W tym roku świętujemy dwudziestą piątą edycję tego wyjątkowego wydarzenia!  \n„Oprócz zespołów mniejszości białoruskiej w Polsce\, w tym roku jako gwiazda wieczoru wystąpi znana wokalistka Cleo – nazywana „królową Słowian” obecnych czasów. Reprezentowała Polskę w Konkursie Piosenki Eurowizji w 2014 roku ” – mówi Magdalena Łotysz\, Dyrektor Gminnego Centrum Kultury w Gródku. \nFestiwal ma charakter koncertu połączonego ze wspólną zabawą\, w której uczestniczą wykonawcy i publiczność. Nawiązuje do tradycyjnego\, zakorzenionego w kulturze słowiańskiej\, przyjacielskiego spotkania\, na którym nie może zabraknąć muzyki\, śpiewu i tańca. W tym roku podczas festiwalu wystąpią zespoły z gminy Gródek oraz goście: As\, Dobryje Grajki\, Souvenir\, Lailand\, Siostry Ostapczuk\, Kapela Braci Rejwów\, Studio Piosenki HDK oraz cygański zespół Glow Qeens. Tradycyjne tańce zaprezentuje Zespół Tańca Ludowego “Przepiórka” z Hajnowskiego Domu Kultury. \nOrganizatorzy przygotowali również dwa konkursy z nagrodami. Konkurs na najsmaczniejsze kartacze – uczestnicy konkursu zmierzą się z przygotowaniem dania regionalnego\, popularnego w północno-wschodniej Polsce. Kolejny konkurs jest skierowany do najmłodszych w którym uczestnicy muszą wykonać pracę plastyczną pn. “Pocztówka z Biesiady”. Wybrane prace zostaną wydrukowane w formie pocztówek i rozdane podczas wydarzenia. \nPodczas biesiady uczestnicy będą mieli możliwość skorzystania ze stoisk twórców ludowych i rękodzielników. Podobnie\, swoje lokalne potrawy zaprezentują stowarzyszenia i koła gospodyń działające na terenie gminy Gródek. Wzorem poprzednich edycji festiwalu\, ponownie zostanie zorganizowana specjalna strefa kocykowa\, która służyć będzie do swobodnego biesiadowania z własnym koszyczkiem i kocykiem. \nMiędzynarodowy Festiwal „Siabrouskaja Biasieda” również będzie można obejrzeć na żywo (online) z każdego zakątku Polski i świata poprzez kanał YouTube Gminnego Centrum Kultury. \n  \nZrealizowano dzięki dotacji Ministra Spraw Wewnętrznych i Administracji. \nZadanie dofinansowane ze środków Powiatu Białostockiego. \n  \nWydarzenie na facebook’u: https://www.facebook.com/events/673994785378693 \nStrona www: https://gckgrodek.pl/wydarzenie/xxv-miedzynarodowy-festiwal-siabrouskaja-biasieda/ \nDojazd: https://goo.gl/maps/gCD8bNETCxQxfJSY8 \n  \nMedia: \nRadosław Kulesza \ninstr. ds. informatycznych i promocji \nrkulesza(at)gckgrodek.pl \nT:  + 48 791 037 601 \n\n\n\nWYSTAPIĄ:\nSOUVENIR\nDOBRYJE GRAJKI\nAS\nLAILAND\nPRZEPIÓRKA\nKAPELA BRACI REJWÓW\nSTUDIO PIOSENKI HDK\nGLOW QUEENS\nSIOSTRY OSTAPCZUK\nVENA\nSTUDIO WOKALNE GCK\nJESIENNY LIŚĆ\nROZŚPIEWANY GRÓDEK\nKALINA\n\nGWIAZDA WIECZORU: CLEO\n  \n \n \n  \n \nREGULAMINY I ZGRODY RODO:\nkonkurs “Najsmaczniejsze kartacze” (PDF\, 271 kb)\nkonkurs “Pocztówka z biesiady” (PDF\, 315 kb)\n  \n  \n  \n
URL:https://gckgrodek.pl/wydarzenie/xxv-miedzynarodowy-festiwal-siabrouskaja-biasieda/
LOCATION:Amfiteatr nad zalewem w Zarzeczanach\, Zarzeczany\, Gródek\, Podlaskie\, 16-040\, Polska
CATEGORIES:Imprezy plenerowe
ATTACH;FMTTYPE=image/jpeg:https://gckgrodek.pl/wp-content/uploads/2025/07/plakat_sb_25_www.jpg
END:VEVENT
END:VCALENDAR