BEGIN:VCALENDAR
VERSION:2.0
PRODID:-//Gminne Centrum Kultury w Gródku - ECPv4.9.5//NONSGML v1.0//EN
CALSCALE:GREGORIAN
METHOD:PUBLISH
X-WR-CALNAME:Gminne Centrum Kultury w Gródku
X-ORIGINAL-URL:https://gckgrodek.pl
X-WR-CALDESC:Events for Gminne Centrum Kultury w Gródku
BEGIN:VTIMEZONE
TZID:"Europe/Warsaw"
BEGIN:DAYLIGHT
TZOFFSETFROM:+0100
TZOFFSETTO:+0200
TZNAME:CEST
DTSTART:20250330T010000
END:DAYLIGHT
BEGIN:STANDARD
TZOFFSETFROM:+0200
TZOFFSETTO:+0100
TZNAME:CET
DTSTART:20251026T010000
END:STANDARD
END:VTIMEZONE
BEGIN:VEVENT
DTSTART;TZID="Europe/Warsaw":20250628T180000
DTEND;TZID="Europe/Warsaw":20250629T000000
DTSTAMP:20260422T235115
CREATED:20250605T122211Z
LAST-MODIFIED:20250616T080423Z
UID:17606-1751133600-1751155200@gckgrodek.pl
SUMMARY:KUPALNOCZKA 2025
DESCRIPTION:W otoczeniu przyrody\, pośród pól i lasów odbędzie się coroczne wydarzenie pn. Kupalnoczka 2025. Załuki nad rzeką Supraśl to tradycyjne miejsce w gminie Gródek gdzie świętowana jest Noc Świętojańska. Już 28 czerwca o godz. 18.00 na placu szkolnym w Załukach.\n\n„Kupalinka\, Kupalinka ciomnaja noczka…” – słowa tego utworu nie raz zabrzmią pośród pól i lasów w Załukach\, podczas kolejnej edycji imprezy pn. „Kupalnoczka”. Noc Kupały (zwana też nocą kupalną\, kupalnocką\, kupałą) jest słowiańskim świętem związanym z letnim przesileniem słońca. Święto ognia\, wody\, słońca\, urodzaju\, płodności\, radości i miłości\, powszechnie było obchodzone na obszarach zamieszkiwanych przez ludy słowiańskie.\n\nW programie tegorocznej Kupalnoczki nie zabraknie bogatej części koncertowej. W pierwszym bloku artystycznym wystąpią zespoły\, które działają przy Gminnym Centrum Kultury w Gródku. Na scenie zaprezentują się również Niezabudki\, Malwianki\, Kapela Braci Rejwów oraz cygański zespół Glow Qeens. Natomiast gwiazdami wieczoru będą zespoły: As\, Kolorek – Turysta z Podlasia oraz Souvenir. Wszyscy uczestnicy udadzą się barwnym korowodem nad rzekę Supraśl\, gdzie odbędzie się obrzęd puszczania wianków. Według dawnych wierzeń\, dziewczyna\, której wianek zostanie wyłowiony przez chłopaka szybko wyjdzie za mąż.\n\nOrganizatorzy: Gminne Centrum Kultury w Gródku\, Gmina Gródek\, Stowarzyszenie “Załuki nad Supraślą”;\n\nPartnerzy: Sołectwo Załuki\, Niepubliczna Szkoła Podstawowa w Załukach\, Ochotnicza Straż Pożarna Załuki\, Polski Związek Łowiecki – Zarząd Okręgowy w Białymstoku\, koła łowieckie: Podmuch i Jedność oraz Bar Zaścianki;\n__Zrealizowano dzięki dotacji Ministra Spraw Wewnętrznych i Administracji.Zadanie współfinansowane przez Powiat Białostocki.\n
URL:https://gckgrodek.pl/wydarzenie/kupalnoczka-2025/
LOCATION:Załuki\, plac szkolny\, Polska
CATEGORIES:Imprezy plenerowe
ATTACH;FMTTYPE=image/jpeg:https://gckgrodek.pl/wp-content/uploads/2025/06/kupalnoczka_plakat_25-—-kopia.jpg
END:VEVENT
END:VCALENDAR