BEGIN:VCALENDAR
VERSION:2.0
PRODID:-//Gminne Centrum Kultury w Gródku - ECPv4.9.5//NONSGML v1.0//EN
CALSCALE:GREGORIAN
METHOD:PUBLISH
X-WR-CALNAME:Gminne Centrum Kultury w Gródku
X-ORIGINAL-URL:https://gckgrodek.pl
X-WR-CALDESC:Events for Gminne Centrum Kultury w Gródku
BEGIN:VTIMEZONE
TZID:"Europe/Warsaw"
BEGIN:DAYLIGHT
TZOFFSETFROM:+0100
TZOFFSETTO:+0200
TZNAME:CEST
DTSTART:20240331T010000
END:DAYLIGHT
BEGIN:STANDARD
TZOFFSETFROM:+0200
TZOFFSETTO:+0100
TZNAME:CET
DTSTART:20241027T010000
END:STANDARD
END:VTIMEZONE
BEGIN:VEVENT
DTSTART;TZID="Europe/Warsaw":20241107T080000
DTEND;TZID="Europe/Warsaw":20241107T170000
DTSTAMP:20260423T114441
CREATED:20241023T131224Z
LAST-MODIFIED:20241023T131224Z
UID:17397-1730966400-1730998800@gckgrodek.pl
SUMMARY:KINO GWIAZDA ZAPRASZA
DESCRIPTION:godz. 15.15 – Terrifier 3godz. 17.30 – U Pana Boga w Królowym Mościegodz. 19.40 – Listy do M. Pożegnania i Powroty\nBilety do nabycia przed seansami: 22 zł normalny; 18 ulgowy;\n7 listopada (czwartek)\, sala kinowa Gminnego Centrum Kultury w Gródku.\nPoranne seanse dla Przedszkola Samorządowego oraz Szkoły Podstawowej w Gródku.\n
URL:https://gckgrodek.pl/wydarzenie/kino-gwiazda-zaprasza/
LOCATION:Gminne Centrum Kultury Gródku\, ul. A. i G. Chodkiewiczów 4\, Gródek\, 16-040
CATEGORIES:Kino
ATTACH;FMTTYPE=image/jpeg:https://gckgrodek.pl/wp-content/uploads/2024/10/kino-—-kopia.jpg
END:VEVENT
END:VCALENDAR