BEGIN:VCALENDAR
VERSION:2.0
PRODID:-//Gminne Centrum Kultury w Gródku - ECPv4.9.5//NONSGML v1.0//EN
CALSCALE:GREGORIAN
METHOD:PUBLISH
X-WR-CALNAME:Gminne Centrum Kultury w Gródku
X-ORIGINAL-URL:https://gckgrodek.pl
X-WR-CALDESC:Events for Gminne Centrum Kultury w Gródku
BEGIN:VTIMEZONE
TZID:"Europe/Warsaw"
BEGIN:DAYLIGHT
TZOFFSETFROM:+0100
TZOFFSETTO:+0200
TZNAME:CEST
DTSTART:20240331T010000
END:DAYLIGHT
BEGIN:STANDARD
TZOFFSETFROM:+0200
TZOFFSETTO:+0100
TZNAME:CET
DTSTART:20241027T010000
END:STANDARD
END:VTIMEZONE
BEGIN:VEVENT
DTSTART;TZID="Europe/Warsaw":20240831T170000
DTEND;TZID="Europe/Warsaw":20240831T235900
DTSTAMP:20260423T143151
CREATED:20240731T082206Z
LAST-MODIFIED:20240827T112055Z
UID:17300-1725123600-1725148740@gckgrodek.pl
SUMMARY:DOŻYNKI GMINNE W ZUBRACH
DESCRIPTION:W tym roku spotkamy się w urokliwym miejscu – “Skwer na Jamach” w Zubrach. Początek wydarzenia o godz. 17.00.\nOk. godz. 18.00 wyruszy barwny korowód dożynkowy w kierunku Kapliczki św. Mikołaja w Zubrach\, gdzie odbędzie się modlitwa dziękczynna w intencji rolników oraz poświęcenie tegorocznych plonów.\nNa dożynkowej scenie wystąpią zespoły z Gminnego Centrum Kultury w Gródku oraz Aleh.S.Band\, Tytan-Band i Dobryje Grajki.\nNa uczestników wydarzenia czekać będzie wspólne ognisko z kiełbaskami.\n\nStrefę gastronomiczną zapewnia Gospoda Michałowo.__Zrealizowano dzięki dotacji Ministra Spraw Wewnętrznych i Administracji \nPokaż mniej\n\nDojazd:\n \n
URL:https://gckgrodek.pl/wydarzenie/dozynki-gminne-w-zubrach/
LOCATION:“Skwer na Jamach” Zubry\, Zubry\, Podlaskie\, 16-040\, Polska
CATEGORIES:Imprezy plenerowe
ATTACH;FMTTYPE=image/jpeg:https://gckgrodek.pl/wp-content/uploads/2024/07/dozynki_24-—-kopia.jpg
END:VEVENT
END:VCALENDAR