BEGIN:VCALENDAR
VERSION:2.0
PRODID:-//Gminne Centrum Kultury w Gródku - ECPv4.9.5//NONSGML v1.0//EN
CALSCALE:GREGORIAN
METHOD:PUBLISH
X-WR-CALNAME:Gminne Centrum Kultury w Gródku
X-ORIGINAL-URL:https://gckgrodek.pl
X-WR-CALDESC:Events for Gminne Centrum Kultury w Gródku
BEGIN:VTIMEZONE
TZID:"Europe/Warsaw"
BEGIN:DAYLIGHT
TZOFFSETFROM:+0100
TZOFFSETTO:+0200
TZNAME:CEST
DTSTART:20240331T010000
END:DAYLIGHT
BEGIN:STANDARD
TZOFFSETFROM:+0200
TZOFFSETTO:+0100
TZNAME:CET
DTSTART:20241027T010000
END:STANDARD
END:VTIMEZONE
BEGIN:VEVENT
DTSTART;TZID="Europe/Warsaw":20240824T170000
DTEND;TZID="Europe/Warsaw":20240824T230000
DTSTAMP:20260423T155350
CREATED:20240801T134523Z
LAST-MODIFIED:20240814T065444Z
UID:17305-1724518800-1724540400@gckgrodek.pl
SUMMARY:DAWNE WIEJSKIE WESELE
DESCRIPTION:INSCENIZACJA DAWNEGO WIEJSKIEGO WESELA \n24 sierpnia 2024\, godz. 17.00 \nwiata sołecka we wsi Waliły \n  \nKto z nas pamięta dawne\, wiejskie wesela? Dawniej wesele nie było jednodniową imprezą\, ale trwało od kilku do nawet kilkunastu dni. Temu ważnemu wydarzeniu towarzyszyło mnóstwo obrzędów i tradycji. Uczestnicy projektu „Partnerstwa lokalne w gminie Gródek”\, dofinansowanego ze środków Ministra Kultury i Dziedzictwa Narodowego w ramach programu Narodowego Centrum Kultury: Dom Kultury+ Edycja 2024 wybrali realizację przedstawienia weselnego jako wspólne działanie kilku partnerów\, które ma za zadanie integrację mieszkańców z różnych wsi z terenu gminy oraz podtrzymywanie lokalnej tradycji. \n„Wykupiny” Panny Młodej\, błogosławieństwo przez rodziców nowożeńców czy „ceremonia” darowania młodych przeprowadzona przez weselnego marszałka to tylko część obrzędów związanych z dawnym weselem. Wiata sołecka we wsi Waliły zostanie udekorowana jak prawdziwy dom weselny. Para młoda jak za dawnych lat przejedzie przez wieś na furze ciągniętej przez konie\, a za nimi przejdą wszyscy uczestnicy korowodu weselnego. W role rodziców\, dziadków\, rodziny nowożeńców i innych osób biorących udział w inscenizacji wcielą się uczestnicy projektu. Zostanie również upieczony na tę okazję korowaj\, który niegdyś był nieodłącznym elementem każdego wesela i symbolizował płodność\, bogactwo i szczęście dla Pary Młodej. Tym obrzędowym ciastem zostaną obdarowywani wszyscy goście. Podczas wydarzenia nie zabraknie dawnych konkursów weselnych oraz nauki tradycyjnych tańców\, które poprowadzi Magdalena Dąbrowska. Jak na dawnym weselu tak i podczas inscenizacji nie zabraknie kapeli weselnej. Zabawę poprowadzi zespół Lailand z Białegostoku. Wystąpią również lokalne chóry folklorystyczne oraz akordeoniści ze specjalnie przygotowanymi na te wydarzenie przyśpiewkami weselnymi. \nInscenizacji wesela będą towarzyszyć warsztaty tj.  pieczenia korowaja (Bielewicze)\, tworzenia dekoracji weselnych (Chomontowce)\, florystyczne (wieś Waliły i Dzierniakowo)\, filcowania (Wiejki)\, które odbędą się dla mieszkańców danych wsi przed wydarzeniem. Podczas korowodu weselnego uczestnicy będą mogli obejrzeć wystawę pn. „Monidła z gminy Gródek” umieszczoną na płotach we wsi Waliły\, która trafi później do różnych miejscowości naszej gminy. \nZapraszamy wszystkich do uczestnictwa w obrzędach weselnych i wspólnej zabawie! Można ze sobą wziąć koszyczek oraz kocyk. \nKoordynatorem i organizatorem wydarzenia jest Gminne Centrum Kultury oraz osoby biorące udział w projekcie. \nDofinansowano ze środków Ministra Kultury i Dziedzictwa Narodowego w ramach programu Narodowego Centrum Kultury: Dom Kultury+ Edycja 2024. \n  \n
URL:https://gckgrodek.pl/wydarzenie/dawne-wiejskie-wesele/
LOCATION:wieś Waliły\, w. Waliły\, Gródek\, Podlaskie\, 16-040
CATEGORIES:Imprezy plenerowe
ATTACH;FMTTYPE=image/jpeg:https://gckgrodek.pl/wp-content/uploads/2024/08/wesele_www.jpg
ORGANIZER;CN="Gminne%20Centrum%20Kultury%20w%20Gr%C3%B3dku":MAILTO:biuro@gckgrodek.pl
END:VEVENT
END:VCALENDAR