BEGIN:VCALENDAR
VERSION:2.0
PRODID:-//Gminne Centrum Kultury w Gródku - ECPv4.9.5//NONSGML v1.0//EN
CALSCALE:GREGORIAN
METHOD:PUBLISH
X-WR-CALNAME:Gminne Centrum Kultury w Gródku
X-ORIGINAL-URL:https://gckgrodek.pl
X-WR-CALDESC:Events for Gminne Centrum Kultury w Gródku
BEGIN:VTIMEZONE
TZID:"Europe/Warsaw"
BEGIN:DAYLIGHT
TZOFFSETFROM:+0100
TZOFFSETTO:+0200
TZNAME:CEST
DTSTART:20240331T010000
END:DAYLIGHT
BEGIN:STANDARD
TZOFFSETFROM:+0200
TZOFFSETTO:+0100
TZNAME:CET
DTSTART:20241027T010000
END:STANDARD
END:VTIMEZONE
BEGIN:VEVENT
DTSTART;TZID="Europe/Warsaw":20240727T170000
DTEND;TZID="Europe/Warsaw":20240728T010000
DTSTAMP:20260423T133633
CREATED:20240515T135333Z
LAST-MODIFIED:20240726T111200Z
UID:17234-1722099600-1722128400@gckgrodek.pl
SUMMARY:XXIV MIĘDZYNARODOWY FESTIWAL SIABROUSKAJA BIASIEDA
DESCRIPTION:TRANSMISJA NA ŻYWO\nCZĘŚĆ I\n\n\n\nCZĘŚĆ II \n \n\nW tym roku wystąpią:BRAThANKIPatrycja Runo z Rada Dance Art – pokazy tańca\nZespół AsDobryje GrajkiZespół SouvenirLailandSiostry OstapczukWeronika Ptaszyńska & duet taneczny “Lamia”Da się lubić – Koło Gospodyń Wiejskich “Kokoszki z przytupem” w KopiskuAleh.S.BandVenaRozśpiewany GródekJesienny LiśćKalina\n\nXXIV Międzynarodowy Festiwal Siabrouskaja Biasieda – amfiteatr nad zalewem w Zarzeczanach\n\nFestiwal Siabrouskaja Biasieda to jedna z ważniejszych imprez kulturalnych prezentująca dorobek kulturowy regionu i twórczość ludową z głównym naciskiem na kulturę mniejszości białoruskiej.  \n„Oprócz zespołów mniejszości białoruskiej w Polsce\, w tym roku gościnnie na biasiedzie wystąpi kultowy zespół Brathanki\, wykonujący muzykę z pogranicza folku\, popu i rocka. Kolejną\, nową propozycją na tegorocznej edycji Festiwalu będzie koncert Patrycji Runo wraz z zespołem tanecznym Rada Dance Art\, którzy zaprezentują muzykę i kulturę romską.” – mówi Magdalena Łotysz\, Dyrektor Gminnego Centrum Kultury w Gródku. \nFestiwal ma charakter koncertu połączonego ze wspólną zabawą\, w której uczestniczą wykonawcy i publiczność. Nawiązuje do tradycyjnego\, zakorzenionego w kulturze słowiańskiej\, przyjacielskiego spotkania\, na którym nie może zabraknąć muzyki\, śpiewu i tańca. W tym roku podczas festiwalu wystąpią zespoły ludowe z gminy Gródek oraz goście: As\, Dobryje Grajki\, Souvenir\, Lailand\, Siostry Ostapczuk\, Weronika Ptaszyńska & duet taneczny „Lamia” oraz Aleh.S.Band. Ciekawym akcentem będzie również występ zespołu “Da się lubić” działającego przy Towarzystwie Przyjaciół Kopiska z gminy Dobrzyniewo Duże. \nOrganizatorzy przygotowali również dla uczestników dwa konkursy z nagrodami. Konkurs na najsmaczniejszy tradycyjne pierogi – uczestnicy konkursu zmierzą się z przygotowaniem domowych pierogów. Kolejny konkurs jest skierowany dla najmłodszych w którym uczestnicy muszą wykonać pracę plastyczną pn. “Pocztówka z Biesiady”. \nPodczas biesiady uczestnicy będą mieli możliwość skorzystania ze stoisk twórców ludowych i rękodzielników. Podobnie\, swoje lokalne wytwory zaprezentują stowarzyszenia i koła gospodyń działające na terenie gminy Gródek. Wzorem ostatniego festiwalu\, ponownie zostanie zorganizowana specjalna strefa kocykowa\, która służyć będzie do swobodnego biesiadowania z własnym koszyczkiem i kocykiem. \nMiędzynarodowy Festiwal „Siabrouskaja Biasieda” również będzie można obejrzeć na żywo (online) z każdego zakątku Polski i świata poprzez kanał YouTube Gminnego Centrum Kultury. \n \n\n\n\n\nDo pobrania:\nRegulamin i zgoda RODO konkurs Tradycyjne Pierogi (PDF\, 302 kb)\nRegulamin i zgoda RODO konkurs Pocztówka z Biesiady (PDF\, 314 kb)\n\n\n\nOrganizatorzy: Gminne Centrum Kultury w Gródku\, Gmina GródekPatronat medialny: TVP3 Białystok\, Radio Białystok\, Radio Racyja\, Radio Jard\, Radio Orthodoxia\, Wiadomości Gródeckie – Haradockija Nawiny;Sponsorzy: Nadleśnictwo Waliły\, Bank Spółdzielczy w Białystoku / Oddział w Gródku\, Chorten – Sklep Fresh Market\, PPH “Wenus” Marek Klebus\, Podlaski Kąsek;\n\n\nZrealizowano dzięki dotacji Ministerstwa Spraw Wewnętrznych i Administracji.Zadanie dofinansowane ze środków Powiatu Białostockiego.\n
URL:https://gckgrodek.pl/wydarzenie/xxiv-miedzynarodowy-festiwal-siabrouskaja-biasieda/
LOCATION:Amfiteatr nad zalewem w Zarzeczanach\, Zarzeczany\, Gródek\, Podlaskie\, 16-040\, Polska
CATEGORIES:Imprezy plenerowe
ATTACH;FMTTYPE=image/jpeg:https://gckgrodek.pl/wp-content/uploads/2024/05/plakat_sb_24_maly.jpg
ORGANIZER;CN="Gminne%20Centrum%20Kultury%20w%20Gr%C3%B3dku":MAILTO:biuro@gckgrodek.pl
END:VEVENT
END:VCALENDAR