BEGIN:VCALENDAR
VERSION:2.0
PRODID:-//Gminne Centrum Kultury w Gródku - ECPv4.9.5//NONSGML v1.0//EN
CALSCALE:GREGORIAN
METHOD:PUBLISH
X-WR-CALNAME:Gminne Centrum Kultury w Gródku
X-ORIGINAL-URL:https://gckgrodek.pl
X-WR-CALDESC:Events for Gminne Centrum Kultury w Gródku
BEGIN:VTIMEZONE
TZID:"Europe/Warsaw"
BEGIN:DAYLIGHT
TZOFFSETFROM:+0100
TZOFFSETTO:+0200
TZNAME:CEST
DTSTART:20240331T010000
END:DAYLIGHT
BEGIN:STANDARD
TZOFFSETFROM:+0200
TZOFFSETTO:+0100
TZNAME:CET
DTSTART:20241027T010000
END:STANDARD
END:VTIMEZONE
BEGIN:VEVENT
DTSTART;TZID="Europe/Warsaw":20240315T170000
DTEND;TZID="Europe/Warsaw":20240315T173000
DTSTAMP:20260423T071833
CREATED:20240205T084819Z
LAST-MODIFIED:20240205T084819Z
UID:17114-1710522000-1710523800@gckgrodek.pl
SUMMARY:KABARET "KOŃ POLSKI" W GRÓDKU
DESCRIPTION:Kiedy?\n15 marca (piątek) 2024 r.\nGdzie?\nSala widowiskowa Gminnego Centrum Kultury w Gródku\, ul. A. i G. Chodkiewiczów 4\, 16-040 Gródek\nO której?\ngodz. 17.00\nBilety:\nNormalny 70 zł\nGrupowy 60 zł (grupa od 10 osób)\nBilety można kupić jedyne przez stronę: https://app.evenea.pl/event/konpolskigrodek/\nBilety nie będą sprzedawane przed wejściu na wydarzenie.\n____\nO kabarecie:\nKabaret występuje już ponad ćwierć wieku\, a karierę rozpoczął od zdobycia Grand Prix na I Przeglądzie Kabaretów Paka w Krakowie. Potem były “Złota Szpilka” Lidzbarskich Biesiad Satyry i Humoru i wiele\, wiele innych. Kabaret ma na koncie dwa seriale telewizyjne – Badziewiakowie i Skarb Sekretarza. Jest gospodarzem największej imprezy kabaretowej w kraju – Festiwalu Kabaretu w Koszalinie odbywającego się co roku w ostatnią sobotę lipca\, transmitowanego na żywo przez telewizję. Ma na koncie kilkanaście wyjazdów zagranicznych gdzie występował dla Polonii. Między innymi bawił publiczność w Nowym Yorku\, Chicago\, Los Angeles\, Paryżu\, Berlinie\, Moskwie\, i Brukseli. Wszystkim kojarzy się z najbardziej znaną kabaretową parą w kraju – Marianem i Helą. Kabaret tworzą Leszek Malinowski\, Waldemar Sierański oraz wychowanka Teatru Muzycznego w Gdyni Maria Borzyszkowska.\nPrzed państwem – Kabaret Koń Polski!\n
URL:https://gckgrodek.pl/wydarzenie/kabaret-kon-polski-w-grodku/
LOCATION:Gminne Centrum Kultury Gródku\, ul. A. i G. Chodkiewiczów 4\, Gródek\, 16-040
CATEGORIES:Kabaret
ATTACH;FMTTYPE=image/jpeg:https://gckgrodek.pl/wp-content/uploads/2024/02/kon.jpg
ORGANIZER;CN="Gminne%20Centrum%20Kultury%20w%20Gr%C3%B3dku":MAILTO:biuro@gckgrodek.pl
END:VEVENT
END:VCALENDAR