BEGIN:VCALENDAR
VERSION:2.0
PRODID:-//Gminne Centrum Kultury w Gródku - ECPv4.9.5//NONSGML v1.0//EN
CALSCALE:GREGORIAN
METHOD:PUBLISH
X-WR-CALNAME:Gminne Centrum Kultury w Gródku
X-ORIGINAL-URL:https://gckgrodek.pl
X-WR-CALDESC:Events for Gminne Centrum Kultury w Gródku
BEGIN:VTIMEZONE
TZID:"Europe/Warsaw"
BEGIN:DAYLIGHT
TZOFFSETFROM:+0100
TZOFFSETTO:+0200
TZNAME:CEST
DTSTART:20240331T010000
END:DAYLIGHT
BEGIN:STANDARD
TZOFFSETFROM:+0200
TZOFFSETTO:+0100
TZNAME:CET
DTSTART:20241027T010000
END:STANDARD
END:VTIMEZONE
BEGIN:VEVENT
DTSTART;TZID="Europe/Warsaw":20240120T170000
DTEND;TZID="Europe/Warsaw":20240120T190000
DTSTAMP:20260423T035029
CREATED:20240112T115430Z
LAST-MODIFIED:20240112T122720Z
UID:17100-1705770000-1705777200@gckgrodek.pl
SUMMARY:WIECZÓR KOLĘD 2024
DESCRIPTION:20 stycznia (sobota) 2024 r.\, godz. 17.00 sala widowiskowa Gminnego Centrum Kultury w Gródku\nWYSTĄPIĄ: \nPRZEDSZKOLE SAMORZĄDOWE W GRÓDKU\nSZKOŁA PODSTAWOWA W GRÓDKU\nNIEPUBLICZNA SZKOŁA W ZAŁUKACH\nKOŁO MIŁOŚNIKÓW KSIĄŻKI – BIBLIOTEKA PUBLICZNA W GRÓDKU\nALEKSANDRA ŻUKOWSKA\nKRYSTIAN GRYKO (AKORDEON)\nDZIECIĘCA GRUPA KOLĘDNICZA Z ZAŁUK\nCHÓR PARAFII RZYMSKOKATOLICKIEJ W GRÓDKU\nKOLĘDNICY Z BRACTWA DZIECIĘCEGO PARAFII PRAWOSŁAWNEJ W GRÓDKU\nSTOWARZYSZENIE AKTYWNY SENIOR\nGRUPY TANECZNE Z GCK VENA\nKALINA\nJESIENNY LIŚĆ\nROZŚPIEWANY GRÓDEK\nCHUTAR\nZESPÓŁ WOKALNO-INSTRUMENTALNY GCK “UROK” \nPODCZAS WYDARZENIA NASTĄPI ROZSTRZYGNIĘCIE KONKURSU PN. NAJŁADNIEJSZA BOŻONARODZENIOWA DEKORACJA POSESJI NA TERENIE GMINY GRÓDEK 2024 \n
URL:https://gckgrodek.pl/wydarzenie/wieczor-koled-2024/
LOCATION:Gminne Centrum Kultury Gródku\, ul. A. i G. Chodkiewiczów 4\, Gródek\, 16-040
CATEGORIES:Koncerty
ATTACH;FMTTYPE=image/jpeg:https://gckgrodek.pl/wp-content/uploads/2024/01/plakat_koledy_finisz-—-kopia.jpg
ORGANIZER;CN="Gminne%20Centrum%20Kultury%20w%20Gr%C3%B3dku":MAILTO:biuro@gckgrodek.pl
END:VEVENT
END:VCALENDAR