BEGIN:VCALENDAR
VERSION:2.0
PRODID:-//Gminne Centrum Kultury w Gródku - ECPv4.9.5//NONSGML v1.0//EN
CALSCALE:GREGORIAN
METHOD:PUBLISH
X-WR-CALNAME:Gminne Centrum Kultury w Gródku
X-ORIGINAL-URL:https://gckgrodek.pl
X-WR-CALDESC:Events for Gminne Centrum Kultury w Gródku
BEGIN:VTIMEZONE
TZID:"Europe/Warsaw"
BEGIN:DAYLIGHT
TZOFFSETFROM:+0100
TZOFFSETTO:+0200
TZNAME:CEST
DTSTART:20230326T010000
END:DAYLIGHT
BEGIN:STANDARD
TZOFFSETFROM:+0200
TZOFFSETTO:+0100
TZNAME:CET
DTSTART:20231029T010000
END:STANDARD
END:VTIMEZONE
BEGIN:VEVENT
DTSTART;TZID="Europe/Warsaw":20231028T170000
DTEND;TZID="Europe/Warsaw":20231028T183000
DTSTAMP:20260422T230929
CREATED:20231013T111745Z
LAST-MODIFIED:20231013T111745Z
UID:17033-1698512400-1698517800@gckgrodek.pl
SUMMARY:KONCERT Z KLASYKĄ PRZEZ POLSKĘ
DESCRIPTION:Wystąpią:\nJanusz Olejniczak – fortepian\nTomasz Strahl – wiolonczela\n\nRepertuar:\nChopin\, Schubert\, Haendel\, Elgar\, Paderewski\, de Falla\n\nsobota\n28.10.2023\ngodz. 17.00\nSala widowiskowa Gminnego\nCentrum Kultury w Gródku\nul. Chodkiewiczów 4\n\nWSTĘP WOLNY!\n\nProjekt finansowany ze środków Ministerstwa Kultury i Dziedzictwa Narodowego.\n
URL:https://gckgrodek.pl/wydarzenie/koncert-z-klasyka-przez-polske/
LOCATION:Gminne Centrum Kultury Gródku\, ul. A. i G. Chodkiewiczów 4\, Gródek\, 16-040
CATEGORIES:Koncerty
ATTACH;FMTTYPE=image/jpeg:https://gckgrodek.pl/wp-content/uploads/2023/10/NIMIT_Olejniczak-Strahl_afisz_B2_02-—-kopia.jpg
ORGANIZER;CN="Gminne%20Centrum%20Kultury%20w%20Gr%C3%B3dku":MAILTO:biuro@gckgrodek.pl
END:VEVENT
END:VCALENDAR