BEGIN:VCALENDAR
VERSION:2.0
PRODID:-//Gminne Centrum Kultury w Gródku - ECPv4.9.5//NONSGML v1.0//EN
CALSCALE:GREGORIAN
METHOD:PUBLISH
X-WR-CALNAME:Gminne Centrum Kultury w Gródku
X-ORIGINAL-URL:https://gckgrodek.pl
X-WR-CALDESC:Events for Gminne Centrum Kultury w Gródku
BEGIN:VTIMEZONE
TZID:"Europe/Warsaw"
BEGIN:DAYLIGHT
TZOFFSETFROM:+0100
TZOFFSETTO:+0200
TZNAME:CEST
DTSTART:20230326T010000
END:DAYLIGHT
BEGIN:STANDARD
TZOFFSETFROM:+0200
TZOFFSETTO:+0100
TZNAME:CET
DTSTART:20231029T010000
END:STANDARD
END:VTIMEZONE
BEGIN:VEVENT
DTSTART;TZID="Europe/Warsaw":20230902T170000
DTEND;TZID="Europe/Warsaw":20230902T230000
DTSTAMP:20260422T215107
CREATED:20230814T121911Z
LAST-MODIFIED:20230824T115521Z
UID:16966-1693674000-1693695600@gckgrodek.pl
SUMMARY:DOŻYNKI GMINNE 2023 W MIELESZKACH
DESCRIPTION:Tegoroczne Dożynki w Gminie Gródek odbędą się we wsi Mieleszki już 2 września o godz. 17.00 na placu za świetlicą wiejską. \nPodczas wydarzenia odbędzie się korowód dożynkowy przez wieś\, który zakończy się wspólną\, ekumeniczną modlitwą w intencji rolników oraz poświęceniem płodów rolnych. Nie zabraknie również części artystycznej bogatej w koncerty zespołów ludowych działających przy Gminnym Centrum Kultury w Gródku. Gościnnie podczas Dożynek wystąpią: Siostry Ostapczuk\, Lailand\, Metro oraz Dobryje Grajki. \nNa najmłodszych czekać będą zabawy oraz konkursy. Wszyscy uczestnicy będą mogli również wspólnie spędzić czas przy ognisku. Można przyjechać z własnym koszyczkiem. \nOrganizatorem Dożynek jest Gmina Gródek oraz Gminne Centrum Kultury w Gródku przy współpracy z mieszkańcami wsi Mieleszki. \nZabawa jest organizowana w ramach projektu pn. „Cykl letnich zabaw przy muzyce białoruskiej w Gminie Gródek” dofinansowanego przez Ministerstwo Spraw Wewnętrznych i Administracji. \nPatronat medialny: Radio Jard oraz Wiadomości Gródeckie – Haradockija Nawiny. Wydarzenie na facebook’u: https://www.facebook.com/events/817608143050891/ \nDojazd: https://goo.gl/maps/5dWBL5BWWNGrprUE9 \n  \nMedia: \nRadosław Kulesza\ninstr. ds. informatycznych i promocji\nrkulesza(at)gckgrodek.pl\nT: + 48 791 037 601 \n
URL:https://gckgrodek.pl/wydarzenie/dozynki-gminne-2023-w-mieleszkach/
LOCATION:Świetlica w Mieleszkach\, wieś Mieleszki\, Gródek\, Podlaskie\, 16-040\, Polska
CATEGORIES:Imprezy plenerowe
ATTACH;FMTTYPE=image/jpeg:https://gckgrodek.pl/wp-content/uploads/2023/08/dozynki_23-—-kopia-3.jpg
ORGANIZER;CN="Gminne%20Centrum%20Kultury%20w%20Gr%C3%B3dku":MAILTO:biuro@gckgrodek.pl
END:VEVENT
END:VCALENDAR