BEGIN:VCALENDAR
VERSION:2.0
PRODID:-//Gminne Centrum Kultury w Gródku - ECPv4.9.5//NONSGML v1.0//EN
CALSCALE:GREGORIAN
METHOD:PUBLISH
X-WR-CALNAME:Gminne Centrum Kultury w Gródku
X-ORIGINAL-URL:https://gckgrodek.pl
X-WR-CALDESC:Events for Gminne Centrum Kultury w Gródku
BEGIN:VTIMEZONE
TZID:"Europe/Warsaw"
BEGIN:DAYLIGHT
TZOFFSETFROM:+0100
TZOFFSETTO:+0200
TZNAME:CEST
DTSTART:20230326T010000
END:DAYLIGHT
BEGIN:STANDARD
TZOFFSETFROM:+0200
TZOFFSETTO:+0100
TZNAME:CET
DTSTART:20231029T010000
END:STANDARD
END:VTIMEZONE
BEGIN:VEVENT
DTSTART;TZID="Europe/Warsaw":20230821T130000
DTEND;TZID="Europe/Warsaw":20230821T190000
DTSTAMP:20260422T202247
CREATED:20230802T084927Z
LAST-MODIFIED:20230802T085035Z
UID:16956-1692622800-1692644400@gckgrodek.pl
SUMMARY:KINO W GRÓDKU - SIERPIEŃ
DESCRIPTION:KINO CINEMA LUMIERE w Gródku – 21 sierpnia (poniedziałek)\nsala “kinowa” GCK w Gródku\nBilety do nabycia na miejscu w dniu seansu:\n18 zł – ulgowy; 20 zł – normalny.\nNa miejscu popcorn i sklepik \ngodz. 13.00 – MAVKA I STRAŻNICY LASU\nGdzieś w dalekich ostępach magicznego lasu kryje się źródło życia\, którego strzeże urocza wróżka Mavka. Nigdy dotąd żaden człowiek nie zakłócił panującego tu odwiecznego porządku\, a zamieszkujące okolicę zwierzęta i mityczne stworzenia nie wiedzą\, co to strach. Pojawienie się tu utalentowanego muzykanta Łukasza będzie więc nie lada wydarzeniem. Tym bardziej\, że wkrótce Mavka i Łukasz staną się nierozłączni\, a rodzące się między nimi uczucie rozkwitnie jak czarodziejski kwiat. Niestety sielankę wkrótce zburzy próżna i chciwa księżniczka\, która dowiedziawszy się o magicznej mocy źródła życia\, postanowi wykraść je\, by na zawsze zachować młodość. Jej słudzy wkroczą do lasu\, gotowi niszczyć wszystko co stanie im na drodze do wypełnienia rozkazu. Czy Mavka i Łukasz znajdą w sobie siłę\, by obronić las i jego mieszkańców? Czy miłość łącząca wróżkę i człowieka ma szansę przetrwać?\nza: helios.pl\ngodz. 14.45 – MIRACULOUS: BIEDRONKA I CZARNY KOT. FILM\nKiedy tajemniczy złoczyńca zaczyna grozić Paryżowi czarną magią\, do walki z nim staje Marinette\, nieśmiała nastolatka przemieniona w superbohaterkę – Biedronkę. Ucząc się nowych mocy i próbując pogodzić niebezpieczną misję z obowiązkami w domu i szkole\, dziewczyna łączy siły z charyzmatycznym obrońcą sprawiedliwości – Czarnym Kotem. Marinette nie wie jednak\, że pod maską bohatera ukrywa się Adrien\, jej kolega z klasy\, w którym od dawna jest zakochana. Kiedy sekrety Biedronki i Czarnego Kota połączą się\, a serca zaczną bić jednym rytmem\, niezwykły duet zjednoczy się\, by pokonać Władcę Ciem i ocalić miasto. Tak rozpocznie się przygoda\, która zabierze młodych bohaterów w niezwykłą podróż od podziemnych katakumb Paryża po sięgający nieba szczyt Wieży Eiffla i pokaże\, że największą siłą i bronią może być prawdziwa miłość.\nza: filmweb.pl\ngodz. 16.45 – BARBIE\nBarbie\, która żyje w idealnym bajkowym świecie przechodzi kryzys egzystencjalny.\nza: filmweb.pl\n
URL:https://gckgrodek.pl/wydarzenie/kino-w-grodku-sierpien/
LOCATION:Gminne Centrum Kultury Gródku\, ul. A. i G. Chodkiewiczów 4\, Gródek\, 16-040
CATEGORIES:Kino
ATTACH;FMTTYPE=image/jpeg:https://gckgrodek.pl/wp-content/uploads/2023/08/kino_sierpien-—-kopia.jpg
ORGANIZER;CN="Gminne%20Centrum%20Kultury%20w%20Gr%C3%B3dku":MAILTO:biuro@gckgrodek.pl
END:VEVENT
END:VCALENDAR