BEGIN:VCALENDAR
VERSION:2.0
PRODID:-//Gminne Centrum Kultury w Gródku - ECPv4.9.5//NONSGML v1.0//EN
CALSCALE:GREGORIAN
METHOD:PUBLISH
X-WR-CALNAME:Gminne Centrum Kultury w Gródku
X-ORIGINAL-URL:https://gckgrodek.pl
X-WR-CALDESC:Events for Gminne Centrum Kultury w Gródku
BEGIN:VTIMEZONE
TZID:"Europe/Warsaw"
BEGIN:DAYLIGHT
TZOFFSETFROM:+0100
TZOFFSETTO:+0200
TZNAME:CEST
DTSTART:20230326T010000
END:DAYLIGHT
BEGIN:STANDARD
TZOFFSETFROM:+0200
TZOFFSETTO:+0100
TZNAME:CET
DTSTART:20231029T010000
END:STANDARD
END:VTIMEZONE
BEGIN:VEVENT
DTSTART;TZID="Europe/Warsaw":20230807T170000
DTEND;TZID="Europe/Warsaw":20230807T230000
DTSTAMP:20260422T202336
CREATED:20230718T092521Z
LAST-MODIFIED:20230718T092521Z
UID:16944-1691427600-1691449200@gckgrodek.pl
SUMMARY:ZABAWA NA ANNĘ W KRÓLOWYM MOŚCIE
DESCRIPTION:zabawa „na Annę” w Królowym Moście – 7 sierpnia\, godz. 17.00\, boisko w Królowym Moście\nKrólowy Most to słynna miejscowość z polskiego filmu fabularnego pt. „U Pana Boga za piecem” i kolejnych jego części. To właśnie tutaj\, tradycyjnie 7 sierpnia w dzień pamięci św. Anny (wg. kalendarza juliańskiego) odbędzie się zabawa taneczna.\n\nWydarzenie odbędzie się na boisku w Królowym Moście. W tym roku gościnnie zagrają zespoły: Dawid Szymczuk Band\, Czerwone Szpilki\, AleMiKa. Nie zabraknie również lokalnych artystów – zespołów działających przy Gminnym Centrum Kultury w Gródku. Na wszystkich będzie czekała strefa gastro z zimnymi napojami od Baru Promyk z Gródka.\n\nOrganizatorem zabawy jest Gminne Centrum Kultury w Gródku przy współpracy z sołectwami Królowy Most i Kołodno.\n__\nZabawa jest organizowana w ramach projektu pn. „Cykl letnich zabaw przy muzyce białoruskiej w Gminie Gródek” dofinansowanego przez Ministerstwo Spraw Wewnętrznych i Administracji.\n
URL:https://gckgrodek.pl/wydarzenie/zabawa-na-anne-w-krolowym-moscie-5/
LOCATION:Królowy Most\, Królowy Most\, Gródek\, 16-040
CATEGORIES:Imprezy plenerowe
ATTACH;FMTTYPE=image/jpeg:https://gckgrodek.pl/wp-content/uploads/2023/07/plakat-—-kopia.jpg
ORGANIZER;CN="Gminne%20Centrum%20Kultury%20w%20Gr%C3%B3dku":MAILTO:biuro@gckgrodek.pl
END:VEVENT
END:VCALENDAR