BEGIN:VCALENDAR
VERSION:2.0
PRODID:-//Gminne Centrum Kultury w Gródku - ECPv4.9.5//NONSGML v1.0//EN
CALSCALE:GREGORIAN
METHOD:PUBLISH
X-WR-CALNAME:Gminne Centrum Kultury w Gródku
X-ORIGINAL-URL:https://gckgrodek.pl
X-WR-CALDESC:Events for Gminne Centrum Kultury w Gródku
BEGIN:VTIMEZONE
TZID:"Europe/Warsaw"
BEGIN:DAYLIGHT
TZOFFSETFROM:+0100
TZOFFSETTO:+0200
TZNAME:CEST
DTSTART:20230326T010000
END:DAYLIGHT
BEGIN:STANDARD
TZOFFSETFROM:+0200
TZOFFSETTO:+0100
TZNAME:CET
DTSTART:20231029T010000
END:STANDARD
END:VTIMEZONE
BEGIN:VEVENT
DTSTART;VALUE=DATE:20230617
DTEND;VALUE=DATE:20230619
DTSTAMP:20260422T175711
CREATED:20230519T095027Z
LAST-MODIFIED:20230616T124205Z
UID:16884-1686960000-1687132799@gckgrodek.pl
SUMMARY:DNI GRÓDKA 2023
DESCRIPTION: \n  \nDni Gródka 2023 – koncerty i moc atrakcji dla dzieci\nZespół Łzy uświetni kolejną edycję „Dni Gródka”. Nie zabraknie koncertów\, atrakcji i wydarzeń towarzyszących. Święto miejscowości odbędzie się 17-18 czerwca 2023 roku w amfiteatrze nad zalewem w Zarzeczanach.  \nPierwszy dzień odbędzie się pod hasłem „koncertowy Gródek”. Nie zabraknie miejscowych zespołów ale również gości. Natomiast drugiego dnia szykujemy moc atrakcji głównie dla dzieci i młodzieży. \nW sobotę 17 czerwca od godz. 17.00 na deskach sceny amfiteatru nad zalewem w Zarzeczanach wystąpią zespoły działające przy Gminnym Centrum Kultury w Gródku oraz uczniowie Szkoły Podstawowej. Gwiazdą wieczoru będzie zespół Łzy\, znany z takich utworów jak „Agnieszka”\, czy „Narcyz się nazywam”. Supportem dla zespołu będzie koncert Mai Dąbrowskiej (wokal) i Serafina Skowrońskiego (pianino). Duet zaprezentuje muzykę pogranicza w autorskim opracowaniu. Na zakończenie odbędzie się potańcówka z zespołem Metro\, którą zrealizowano dzięki dotacji Ministra Spraw Wewnętrznych i Administracji. W trakcie wydarzenia obędzie się ogłoszenie wyników i wręczenie nagród w III edycji Nagrody Wójta Gminy Gródek „Biały Gryf”. Obok sceny ustawiony zostanie namiot promocyjny gminy Gródek\, w którym będzie można otrzymać foldery i przewodniki po gminie Gródek. Na terenie wydarzenie nie zabraknie atrakcji dla dzieci oraz wystawców ze słodkościami\, gastronomią i zabawkami. Swoje stoiska będą miały również Koła Gospodyń działające w gminie Gródek. \n18 czerwca to święto najmłodszych – dzień poświęcony najmłodszym. Od godz. 12.00 organizatorzy zapewniają bezpłatne atrakcje tj. ośmiornica\, Madagaskar\, basen z piłeczkami\, bramka celnościowa\, bungee run\, gladiatorzy oraz namiot GCK – mega kolorowanka i wspólne gry i zabawy. Na scenie odbędą się prezentacje konkursowe I edycji konkursu „Gmina Gródek ma talent!”. O godz. 15.00 będzie można obejrzeć widowiskowy pokaz ratownictwa technicznego – techniki uwalniania poszkodowanych uwięzionych w pojeździe\, udzielania pomocy przedmedycznej oraz gaszenia płonącego pojazdu w wykonaniu Ochotniczej Straży Pożarnej w Gródku. Swoje stoisko będzie miało również Nadleśnictwo Waliły. \nOrganizatorzy: Gminne Centrum Kultury w Gródku\, Gmina Gródek \nPartnerzy: Ochotnicza Straż Pożarna w Gródku\, Biblioteka Publiczna w Gródku\, Szkoła Podstawowa w Gródku\, Nadleśnictwo Waliły\, Fast event\, Stowarzyszenie Aktywny Senior\, Koło Gospodyń  Wiejskich w Gródku\, Ale Babki ze Słuczanki\, Koło Gospodyń Wiejskich „Pasjonatki” w Bielewiczach \nSponsorzy: Bank Spółdzielczy w Białymstoku Oddział w Gródku\, FAL-POŻ s.c.\, Top Market – sklep Adar w Gródku\, Chorten – sklep Fresh Market w Gródku\, CRS Stacja Demontażu Pojazdów A45 Kasacja Złomowanie\, Gminna Komisja Rozwiązywania Problemów Alkoholowych \nPatronat medialny: Polskie Radio Białystok\, TVP 3 Białystok\, Radio Jard\, Wiadomości Gródeckie – Haradockija Nawiny \nWydarzenie na Facebook’u: https://www.facebook.com/events/559823836044945/ \nStrona www: wydarzenia: https://gckgrodek.pl/wydarzenie/dni-grodka-2023/ \n  \nMedia: \nRadosław Kulesza \ninstr. ds. informatycznych i promocji \nrkulesza(at)gckgrodek.pl \n  \n
URL:https://gckgrodek.pl/wydarzenie/dni-grodka-2023/
LOCATION:Amfiteatr nad zalewem w Zarzeczanach\, Zarzeczany\, Gródek\, Podlaskie\, 16-040\, Polska
CATEGORIES:Imprezy plenerowe
ATTACH;FMTTYPE=image/jpeg:https://gckgrodek.pl/wp-content/uploads/2019/12/www.jpg
END:VEVENT
END:VCALENDAR