BEGIN:VCALENDAR
VERSION:2.0
PRODID:-//Gminne Centrum Kultury w Gródku - ECPv4.9.5//NONSGML v1.0//EN
CALSCALE:GREGORIAN
METHOD:PUBLISH
X-WR-CALNAME:Gminne Centrum Kultury w Gródku
X-ORIGINAL-URL:https://gckgrodek.pl
X-WR-CALDESC:Events for Gminne Centrum Kultury w Gródku
BEGIN:VTIMEZONE
TZID:"Europe/Warsaw"
BEGIN:DAYLIGHT
TZOFFSETFROM:+0100
TZOFFSETTO:+0200
TZNAME:CEST
DTSTART:20230326T010000
END:DAYLIGHT
BEGIN:STANDARD
TZOFFSETFROM:+0200
TZOFFSETTO:+0100
TZNAME:CET
DTSTART:20231029T010000
END:STANDARD
END:VTIMEZONE
BEGIN:VEVENT
DTSTART;TZID="Europe/Warsaw":20230518T180000
DTEND;TZID="Europe/Warsaw":20230518T190000
DTSTAMP:20260422T162835
CREATED:20230508T074130Z
LAST-MODIFIED:20230508T074805Z
UID:16859-1684432800-1684436400@gckgrodek.pl
SUMMARY:KONCERT "DWA SERDUSZKA"
DESCRIPTION:Gminne Centrum Kultury w Gródku zaprasza koncert w wykonaniu Mai Dąbrowskiej i Serafina Skowrońskiego pn. „Dwa serduszka”.\n\n\n18 maja 2023 roku\, godz. 18.00\, Gminne Centrum Kultury w Gródku\n\n\nMaję i Serafina łączy miłości do muzyki\, uwielbiają odkrywać na nowo stare kawałki i interpretować nowe. W ich wykonaniu będą mogli państwo usłyszeć piosenki o miłości w różnym wydaniu – znane hity lat 90.\, jazzowe klasyki a także piosenki popowe w odświeżonych aranżacjach. Zapraszamy!\n\n\nMaja Dąbrowska (wokal) – uczennica klasy maturalnej I Liceum Ogólnokształcącego im. Adama Mickiewicza. Z muzyką związana od małego – śpiewa\, gra na pianinie\, gitarze i ukulele. Absolwentka Państwowej Szkoły Muzycznej I st. w Białymstoku. Zdobywa liczne nagrody na konkursach międzynarodowych\, ogólnopolskich i wojewódzkich. W przyszłości chciałaby zostać lekarzem – dlaczego by nie leczyć śpiewem?\n\n\nSerafin Skowroński (piano) — swoje umiejętności zdobywał podczas licznych masterclassów i nauki w prywatnej szkole muzycznej w Białymstoku. Obecnie szlifuje je pod okiem nominowanego do nagrody Grammy pianisty – Joela Holmes’a. W swoich aranżacjach wplata warsztat wyniesiony z muzyki klasycznej w nowatorstwo harmoniczne i jazzową stylistykę. Na co dzień studiuje informatykę i matematykę na Uniwersytecie Warszawskim.\n\n\nFot. na plakacie: Zuzanna Łukawska\n
URL:https://gckgrodek.pl/wydarzenie/koncert-dwa-serduszka/
LOCATION:Gminne Centrum Kultury Gródku\, ul. A. i G. Chodkiewiczów 4\, Gródek\, 16-040
CATEGORIES:Koncerty
ATTACH;FMTTYPE=image/jpeg:https://gckgrodek.pl/wp-content/uploads/2023/05/koncert-—-kopia-2.jpg
ORGANIZER;CN="Gminne%20Centrum%20Kultury%20w%20Gr%C3%B3dku":MAILTO:biuro@gckgrodek.pl
END:VEVENT
END:VCALENDAR