BEGIN:VCALENDAR
VERSION:2.0
PRODID:-//Gminne Centrum Kultury w Gródku - ECPv4.9.5//NONSGML v1.0//EN
CALSCALE:GREGORIAN
METHOD:PUBLISH
X-WR-CALNAME:Gminne Centrum Kultury w Gródku
X-ORIGINAL-URL:https://gckgrodek.pl
X-WR-CALDESC:Events for Gminne Centrum Kultury w Gródku
BEGIN:VTIMEZONE
TZID:"Europe/Warsaw"
BEGIN:DAYLIGHT
TZOFFSETFROM:+0100
TZOFFSETTO:+0200
TZNAME:CEST
DTSTART:20230326T010000
END:DAYLIGHT
BEGIN:STANDARD
TZOFFSETFROM:+0200
TZOFFSETTO:+0100
TZNAME:CET
DTSTART:20231029T010000
END:STANDARD
END:VTIMEZONE
BEGIN:VEVENT
DTSTART;TZID="Europe/Warsaw":20230331T180000
DTEND;TZID="Europe/Warsaw":20230331T200000
DTSTAMP:20260422T132955
CREATED:20230221T135156Z
LAST-MODIFIED:20230306T124502Z
UID:16800-1680285600-1680292800@gckgrodek.pl
SUMMARY:„ODRODZENIE IKONY” - POKAZ FILMU W GRÓDKU
DESCRIPTION:Film dokumentalny pt. “Odrodzenie Ikony w Polsce. Studium Ikonograficzne w Bielsku Podlaskim.” to film o Ikonie (w wielu aspektach)\, sztuce\, duchowości\, o Podlasiu\, o jedynym Studium Ikonograficznym w Polsce\, o ludziach z pasją i wizją. Zawiera on dużo archiwalnych zdjęć\, nagrań i wspomnień\, w których zobaczymy i usłyszymy wiele postaci związanych w naszym regionem\, również prof. Jerzego Nowosielskiego\, wybitnego artystę\, teologa i filozofa\, który przyjaźnił się z o. Leoncjuszem Tofilukiem – twórcą bielskiej szkoły. Na archiwalnych nagraniach z początku lat 90-tych XX w. zobaczymy inne wybitne postacie\, m.in. poznańskiego architekta prof. Aleksandra Grygorowicza (projektował Sobór w Hajnówce\, cerkiew w Jałówce)\, prof. Leona Tarasewicza czy cenioną białostocką krytyk sztuki – Joannę Tomalską.\nJerzy Nowosielski był człowiekiem ponadprzeciętnym\, uznawanym za jedną z najwybitniejszych postaci polskiej kultury współczesnej. Sejm Rzeczypospolitej Polskiej\, przekonany o ogromnym znaczeniu dorobku malarza\, oddając mu hołd\, ustanawia rok 2023 Rokiem Jerzego Nowosielskiego. Film unaocznia nam jak silnie z Podlasiem był związany krakowski profesor.\nPodlasie traktowane często jako prowincja jawi się w filmie jako bardzo istotny\, najważniejszy ośrodek ikonopisarstwa w Polsce i znaczący w Europie. W pewnym sensie nasz region był w centrum tworzenia się czegoś wielkiego\, transgranicznego. Mieszkańcy Podlasia powinni się o tym dowiedzieć i czuć z tego powodu dumę\, pamiętać\, że mamy na naszym terenie wybitne realizacje sztuki sakralnej. Możemy wymienić polichromie w Gródku i Michałowie\, ikonostas i sobór w Hajnówce\, baptysterium w Bielsku Podlaskim i wiele innych. Krytycy sztuki z zachodniej i centralnej Polski\, a także z zagranicy bardzo cenią Podlasie. Odkrywają tu bowiem na wskroś nowoczesną\, ale osadzoną w tradycji sztukę sakralną (malarstwo\, architektura\, witraże)\, która wspaniale koresponduje z lokalną twórczością i duchowością.\nFilm “Odrodzenie Ikony w Polsce.Studium Ikonograficzne w Bielsku Podlaskim” to zręcznie zebrana i skondensowana wiedza\, którą powinien przyswoić każdy świadomy mieszkaniec Podlasia. Pod pretekstem przedstawienia historii bielskiej szkoły ikonograficznej autor przedstawia bardzo istotny fragment historii całego regionu. Przywołuje częściowo zapomniane\, ważne postacie\, ale przedstawia również współczesnych Podlaskich ikonopisców.\nTwórcy:\nScenariusz\, reżyseria\, montaż – Piotr Łozowik\nZdjęcia – Marek Włodzimirow \, Piotr Łozowik\, Irena Łozowik\, i in.\nMastering – Marek Włodzimirow\n
URL:https://gckgrodek.pl/wydarzenie/odrodzenie-ikony-pokaz-filmu-w-grodku/
LOCATION:Gminne Centrum Kultury Gródku\, ul. A. i G. Chodkiewiczów 4\, Gródek\, 16-040
CATEGORIES:Spotkania
ATTACH;FMTTYPE=image/jpeg:https://gckgrodek.pl/wp-content/uploads/2023/02/plakat_pokaz_filmu-—-kopia.jpg
ORGANIZER;CN="Gminne%20Centrum%20Kultury%20w%20Gr%C3%B3dku":MAILTO:biuro@gckgrodek.pl
END:VEVENT
END:VCALENDAR