BEGIN:VCALENDAR
VERSION:2.0
PRODID:-//Gminne Centrum Kultury w Gródku - ECPv4.9.5//NONSGML v1.0//EN
CALSCALE:GREGORIAN
METHOD:PUBLISH
X-WR-CALNAME:Gminne Centrum Kultury w Gródku
X-ORIGINAL-URL:https://gckgrodek.pl
X-WR-CALDESC:Events for Gminne Centrum Kultury w Gródku
BEGIN:VTIMEZONE
TZID:"Europe/Warsaw"
BEGIN:DAYLIGHT
TZOFFSETFROM:+0100
TZOFFSETTO:+0200
TZNAME:CEST
DTSTART:20230326T010000
END:DAYLIGHT
BEGIN:STANDARD
TZOFFSETFROM:+0200
TZOFFSETTO:+0100
TZNAME:CET
DTSTART:20231029T010000
END:STANDARD
END:VTIMEZONE
BEGIN:VEVENT
DTSTART;TZID="Europe/Warsaw":20230309T153000
DTEND;TZID="Europe/Warsaw":20230309T203000
DTSTAMP:20260422T132802
CREATED:20230221T134936Z
LAST-MODIFIED:20230221T135017Z
UID:16796-1678375800-1678393800@gckgrodek.pl
SUMMARY:KINO W GRÓDKU *DZIEŃ KOBIET
DESCRIPTION:KINO CINEMA LUMIERE w Gródku\nsala “kinowa” GCK w Gródku\nBilety do nabycia na miejscu w dniu seansu:\n18 zł – ulgowy; 20 zł – normalny.\nNa miejscu popcorn i sklepik \n\nPoranne seanse dla Przedszkola Samorządowego i Szkoły Podstawowej w Gródku.\n\nRepertuar popołudniowy:\ngodz. 15.30- Super Futrzak. Ratuje świat.\nSuper Futrzak to przytulaśna świnka morska\, która postanawia wyruszyć na niebezpieczną misję. Bardzo chce pokazać\, że nie jest zwykłym\, domowym zwierzątkiem\, który bezczynnie siedzi w klatce. Postanawia więc zrobić coś\, co pomoże zbawić świat – uratować zagrożone wyginięciem pszczoły.\ngodz. 17.20 – Masz Ci los.\nRodzina przyjeżdża na pogrzeb ukochanego dziadka. Podczas stypy okazuje się\, że w loterii padły właśnie numery\, którymi grał przez całe życie\, a zwycięski kupon… został pochowany wraz z nim.\ngodz. 18.50 – Pokolenie Ikea (wejście od 15 lat)\nDla głównego bohatera przygodny seks\, fantazje erotyczne i szybkie romanse to punkt wyjścia do opowieści o realiach\, w jakich żyją współcześnie młodzi.\n\n\n\n\n\n
URL:https://gckgrodek.pl/wydarzenie/kino-w-grodku-dzien-kobiet-2/
LOCATION:Gminne Centrum Kultury Gródku\, ul. A. i G. Chodkiewiczów 4\, Gródek\, 16-040
CATEGORIES:Kino
ATTACH;FMTTYPE=image/jpeg:https://gckgrodek.pl/wp-content/uploads/2023/02/kino_9_marca-—-kopia.jpg
ORGANIZER;CN="Gminne%20Centrum%20Kultury%20w%20Gr%C3%B3dku":MAILTO:biuro@gckgrodek.pl
END:VEVENT
END:VCALENDAR