BEGIN:VCALENDAR
VERSION:2.0
PRODID:-//Gminne Centrum Kultury w Gródku - ECPv4.9.5//NONSGML v1.0//EN
CALSCALE:GREGORIAN
METHOD:PUBLISH
X-WR-CALNAME:Gminne Centrum Kultury w Gródku
X-ORIGINAL-URL:https://gckgrodek.pl
X-WR-CALDESC:Events for Gminne Centrum Kultury w Gródku
BEGIN:VTIMEZONE
TZID:"Europe/Warsaw"
BEGIN:DAYLIGHT
TZOFFSETFROM:+0100
TZOFFSETTO:+0200
TZNAME:CEST
DTSTART:20220327T010000
END:DAYLIGHT
BEGIN:STANDARD
TZOFFSETFROM:+0200
TZOFFSETTO:+0100
TZNAME:CET
DTSTART:20221030T010000
END:STANDARD
END:VTIMEZONE
BEGIN:VEVENT
DTSTART;TZID="Europe/Warsaw":20221108T153000
DTEND;TZID="Europe/Warsaw":20221108T190000
DTSTAMP:20260422T074914
CREATED:20221025T072225Z
LAST-MODIFIED:20221025T072225Z
UID:16698-1667921400-1667934000@gckgrodek.pl
SUMMARY:KINO W GRÓDKU *LISTY DO M 5
DESCRIPTION:KINO CINEMA LUMIERE w Gródku\nsala “kinowa” GCK w Gródku\nBilety do nabycia na miejscu w dniu seansu:\n18 zł – ulgowy; 20 zł – normalny.\nNa miejscu popcorn i sklepik \n__\nPoranne seanse dla Szkoły Podstawowej w Gródku\n__\ngodz. 15.30 – Kopciuszek i kamień życia\nKopciuszek wraz z początkującą czarodziejką i dwiema rozgadanymi myszami stawia sobie za punkt honoru\, aby odczarować zamienionego w gryzonia księcia Alexa. Niestety żadne magiczne zaklęcia nie chcą odwrócić złego uroku\, więc jedynym sposobem na przywrócenie ukochanemu ludzkiej formy jest odnalezienie legendarnego Kamienia Życia. Przyjaciele udają się na pełną przygód\, cudów i niebezpieczeństw wyprawę do dalekich krain. Spotkają na swojej drodze zaczarowaną chmurę\, chodzące drzewa\, gadatliwego dżina\, utalentowaną kulinarnie kotkę\, pozornie niebezpiecznego niedźwiedzia a także mieszkającą w wielkim pałacu Królową Lasu. Wszystko wskazuje jednak na to\, że będący ostatnią nadzieją Kamień Życia znajduje się w złych rękach. Ukradła go bowiem mieszkająca na odludziu Królowa Pustyni\, która za jego sprawą pragnie zostać najpotężniejszą czarodziejką na świecie. Czy przyjaźń Kopciuszka i jej przyjaciół okaże się na tyle silna\, aby wytrwać do samego końca tej niesamowitej przygody? Jeżeli jest to uczucie szczere i prawdziwe to nie straszne mu nawet największe czary tego świata!\ngodz. 17.15 – Ania\n„Ania” to wzruszająca opowieść o przedwcześnie zmarłej polskiej aktorce – Annie Przybylskiej\, niezapomnianej Marylce z serialu „Złotopolscy”. Premiera „Ani” przewidziana jest na jesień. Twórcami filmu są Krystian Kuczkowski i Michał Bandurski\, którzy przygotowali wyjątkowe dokumenty o największych polskich gwiazdach estrady – „Krzysztof Krawczyk – całe moje życie” oraz „Maryla. Tak kochałam”.\ngodz. 19.00 – Listy do M 5\nMelowi jak zwykle nic nie wychodzi. Zbieg okoliczności sprawia\, że staje się bohaterem mimo woli\, a jego nie zawsze kryształowy charakter znowu zostaje wystawiony na próbę. Wojciech\, który nie czuje wszechobecnej radosnej atmosfery\, spotyka na swojej drodze kogoś\, kto zmienia jego świąteczne plany. Z kolei Karina i Szczepan uwikłają się w walkę o spadek\, który może poróżnić nawet najbliższych. Przekonają się czy z rodziną rzeczywiście dobrze wychodzi się tylko na zdjęciach. To oczywiście nie wszystko! W tej części pojawią się też nowi bohaterowie i ich zaskakujące historie\n
URL:https://gckgrodek.pl/wydarzenie/kino-w-grodku-listy-do-m-5/
LOCATION:Gminne Centrum Kultury Gródku\, ul. A. i G. Chodkiewiczów 4\, Gródek\, 16-040
CATEGORIES:Kino
ATTACH;FMTTYPE=image/jpeg:https://gckgrodek.pl/wp-content/uploads/2022/10/kino_8LITOPADA-—-kopia.jpg
ORGANIZER;CN="Gminne%20Centrum%20Kultury%20w%20Gr%C3%B3dku":MAILTO:biuro@gckgrodek.pl
END:VEVENT
END:VCALENDAR