BEGIN:VCALENDAR
VERSION:2.0
PRODID:-//Gminne Centrum Kultury w Gródku - ECPv4.9.5//NONSGML v1.0//EN
CALSCALE:GREGORIAN
METHOD:PUBLISH
X-WR-CALNAME:Gminne Centrum Kultury w Gródku
X-ORIGINAL-URL:https://gckgrodek.pl
X-WR-CALDESC:Events for Gminne Centrum Kultury w Gródku
BEGIN:VTIMEZONE
TZID:"Europe/Warsaw"
BEGIN:DAYLIGHT
TZOFFSETFROM:+0100
TZOFFSETTO:+0200
TZNAME:CEST
DTSTART:20220327T010000
END:DAYLIGHT
BEGIN:STANDARD
TZOFFSETFROM:+0200
TZOFFSETTO:+0100
TZNAME:CET
DTSTART:20221030T010000
END:STANDARD
END:VTIMEZONE
BEGIN:VEVENT
DTSTART;TZID="Europe/Warsaw":20220807T170000
DTEND;TZID="Europe/Warsaw":20220807T230000
DTSTAMP:20260422T033236
CREATED:20220722T121049Z
LAST-MODIFIED:20220830T072626Z
UID:16569-1659891600-1659913200@gckgrodek.pl
SUMMARY:ZABAWA NA ANNĘ W KRÓLOWYM MOŚCIE
DESCRIPTION:Zabawa u Pana Boga w za piecem \nZabawa „na Annę” w Królowym Moście – 7 sierpnia\, godz. 17.00\, boisko w Królowym Moście \n  \nKrólowy Most to słynna miejscowość z polskiego filmu fabularnego pt. „U Pana Boga za piecem” i kolejnych jego części. To właśnie tutaj\, tradycyjnie 7 sierpnia w dzień pamięci św. Anny (wg. kalendarza juliańskiego) odbędzie się zabawa taneczna. \nWydarzenie odbędzie się na boisku w Królowym Moście. W tym roku gościnnie zagrają zespoły: Souvenir\, Lailand\, Siostry Ostapczuk\, Viesna i Vieroza. Nie zabraknie również lokalnych artystów – zespołów działających przy Gminnym Centrum Kultury w Gródku. Na wszystkich będzie czekała gastronomia: BasiaFoodTruck oraz Bar Promyk. Zabawa potrwa do godziny 23.00. \nOrganizator zabawy jest Gminne Centrum Kultury w Gródku przy współpracy z sołectwami Królowy Most i Kołodno. \nZabawa jest organizowana w ramach projektu pn. „Cykl letnich zabaw przy muzyce białoruskiej w Gminie Gródek” dofinansowanego przez Ministerstwo Spraw Wewnętrznych i Administracji. \n  \n  \n  \n  \n  \n
URL:https://gckgrodek.pl/wydarzenie/zabawa-na-anne-w-krolowym-moscie-4/
LOCATION:Królowy Most\, Królowy Most\, Gródek\, 16-040
CATEGORIES:Imprezy plenerowe
ATTACH;FMTTYPE=image/jpeg:https://gckgrodek.pl/wp-content/uploads/2022/07/296258389_5646191382079174_494412294541692957_n.jpg
END:VEVENT
END:VCALENDAR