BEGIN:VCALENDAR
VERSION:2.0
PRODID:-//Gminne Centrum Kultury w Gródku - ECPv4.9.5//NONSGML v1.0//EN
CALSCALE:GREGORIAN
METHOD:PUBLISH
X-WR-CALNAME:Gminne Centrum Kultury w Gródku
X-ORIGINAL-URL:https://gckgrodek.pl
X-WR-CALDESC:Events for Gminne Centrum Kultury w Gródku
BEGIN:VTIMEZONE
TZID:"Europe/Warsaw"
BEGIN:DAYLIGHT
TZOFFSETFROM:+0100
TZOFFSETTO:+0200
TZNAME:CEST
DTSTART:20220327T010000
END:DAYLIGHT
BEGIN:STANDARD
TZOFFSETFROM:+0200
TZOFFSETTO:+0100
TZNAME:CET
DTSTART:20221030T010000
END:STANDARD
END:VTIMEZONE
BEGIN:VEVENT
DTSTART;TZID="Europe/Warsaw":20220722T203900
DTEND;TZID="Europe/Warsaw":20220722T220000
DTSTAMP:20260421T151211
CREATED:20220712T123449Z
LAST-MODIFIED:20220712T125328Z
UID:16545-1658522340-1658527200@gckgrodek.pl
SUMMARY:WIDOWISKO "KWIAT PAPROCI'
DESCRIPTION:„SUPRASKA SOBÓTKA” – CYKL SPEKTAKLI PLENEROWYCH I POGADANEK W MIEJSCOWOŚCIACH PRZY RZECE SUPRAŚL. \n„Supraska Sobótka„ to wydarzenie\, w miejscowościach\, które połączyła rzeka Supraśl.  W miejscowościach Gródek\, Borki\, Supraśl i Wasilków wystawione zostanie widowisko plenerowe „Kwiat Paproci” przygotowane przez Teatr Latarnia w ramach programu EtnoPolska. Po spektaklu artyści porozmawiają z uczestnikami wydarzenia o tradycji\, obrzędach i zwyczajach Nocy Świętojańskiej\, a chętni widzowie będą mogli  nauczyć się świętojańskich pieśni. Podczas ostatniego spektaklu w Wasilkowie odbędzie się potańcówka z muzyką tradycyjną graną na żywo wraz z warsztatami tańca. Każdy ze spektakli rozpocznie się o zachodzie słońca. \n  \nWidowisko “Kwiat paproci”. \n“Kwiat paproci” przenosi widzów do świata „dawno\, dawno temu”. Do świata\, w którym wydarzenia mogły wydarzyć się sto lat temu\, ale równie dobrze i wczoraj. Dla kogo warto żyć? Gdzie jest prawdziwe szczęście i co jest tak ważne w życiu? Te pytania warto sobie zadawać nieustannie\, pojawiają się one też w spektaklu. Widowisko powstało na podstawie pięknej baśni nawiązującej do polskiej tradycji Nocy Świętojańskiej. Przeznaczone jest zarówno dla dzieci jak i widzów dorosłych.  Przedstawienie emanuje ludową wrażliwością\, w którym widz ma okazję w niezwykłej bliskości usłyszeć\, dotknąć\, zobaczyć\, poczuć i być częścią świata przedstawionego. \n  \nreżyseria: Mateusz Tymura \nmuzyka: Zbigniew Rusiłowicz \nscenografia: Sylwia Maciejewska\nwystępują: \nPaula Czarnecka \nPaulina Karczewska\nBłażej Piotrowski \nZbigniew Rusiłowicz \nMateusz Tymura \n  \nGródek 22.07.2022 g. 20:39 \nBorki 23.07.2022 g. 20:38 \nSupraśl 26.08.2022 g. 19:33 \nWasilków 28.08.2022 g. 19:29 \n  \nRealizator zadania: Fundacja Teatr Latarnia \nPartnerzy: Gminne Centrum Kultury w Gródku\, Centrum Kultury i Rekreacji w Supraślu\, Miejski Ośrodek Animacji Kultury w Wasilkowie \n  \nDofinansowano ze środków Ministra Kultury i Dziedzictwa Narodowego w ramach programu Narodowego Centrum Kultury\, EtnoPolska. Edycja 2022 \n  \n  \n  \n
URL:https://gckgrodek.pl/wydarzenie/widowisko-kwiat-paproci/
LOCATION:Gminne Centrum Kultury Gródku\, ul. A. i G. Chodkiewiczów 4\, Gródek\, 16-040
CATEGORIES:Imprezy plenerowe,Teatr
ATTACH;FMTTYPE=image/png:https://gckgrodek.pl/wp-content/uploads/2022/07/plakat_ETNO.png
END:VEVENT
END:VCALENDAR