BEGIN:VCALENDAR
VERSION:2.0
PRODID:-//Gminne Centrum Kultury w Gródku - ECPv4.9.5//NONSGML v1.0//EN
CALSCALE:GREGORIAN
METHOD:PUBLISH
X-WR-CALNAME:Gminne Centrum Kultury w Gródku
X-ORIGINAL-URL:https://gckgrodek.pl
X-WR-CALDESC:Events for Gminne Centrum Kultury w Gródku
BEGIN:VTIMEZONE
TZID:"Europe/Warsaw"
BEGIN:DAYLIGHT
TZOFFSETFROM:+0100
TZOFFSETTO:+0200
TZNAME:CEST
DTSTART:20220327T010000
END:DAYLIGHT
BEGIN:STANDARD
TZOFFSETFROM:+0200
TZOFFSETTO:+0100
TZNAME:CET
DTSTART:20221030T010000
END:STANDARD
END:VTIMEZONE
BEGIN:VEVENT
DTSTART;TZID="Europe/Warsaw":20220312T170000
DTEND;TZID="Europe/Warsaw":20220312T190000
DTSTAMP:20260421T202658
CREATED:20220217T115646Z
LAST-MODIFIED:20220830T074644Z
UID:16341-1647104400-1647111600@gckgrodek.pl
SUMMARY:PREZENTACJA PUBLIKACJI "MONOGRAFIA ZIEMI GRÓDECKIEJ"
DESCRIPTION:Wójt Gminy Gródek oraz Gminne Centrum Kultury w Gródku serdecznie zapraszają na Konferencję promującą wydanie książki autorstwa Wiery Tarasewicz pt. „Monografia Ziemi Gródeckiej”.\nSpotkanie odbędzie się 12 marca 2022 r.\, godz. 17.00 w sali widowiskowej Gminnego Centrum Kultury w Gródku.\n\nW programie: prezentacja publikacji\, rozmowa z autorką książki – Wierą Tarasewicz\, występ artystyczny Studia Wokalnego działającego przy GCK.\n\nWstęp wolny!\n\n„Europejski Fundusz Rolny na rzecz Rozwoju Obszarów Wiejskich: Europa inwestująca w obszary wiejskie”. Instytucja Zarządzająca PROW 2014–2020 – Minister Rolnictwa i Rozwoju Wsi. Publikacja opracowana przez Gminę Gródek\, współfinansowana jest ze środków Unii Europejskiej w ramach poddziałania „Wsparcie na wdrażanie operacji w ramach strategii rozwoju lokalnego kierowanego przez społeczność” objętego PROW 2014-2020.\n__\n„Monografia Ziemi Gródeckiej”\, którą mam przyjemność przedstawić Szanownym Czytelnikom\, jest pierwszą obszerną publikacją o gminie Gródek. Bardzo cieszy mnie fakt\, iż półka z wydawnictwami\, poświęconymi przeszłości naszej gminy\, rozszerzy się.\nJest to monografia o niemałym znaczeniu dla rozwoju badań z zakresu historii regionalnej\, a jednocześnie dzieło wyjątkowo interesujące dla każdego miłośnika dziejów Gródka i jego najbliższych okolic. Czuć w niej pasję autorki do przedstawiania współczesności naszej gminy oraz historii. Jestem przekonany\, że zaangażowanie i serce\, jakie zostały włożone przy powstawaniu tejże książki\, zaważyły na jej wartości.\nPublikacja\, która trafia właśnie do Państwa rąk\, nakreśla ciekawą i barwną historię naszego regionu. Znajdziemy w niej zatem dzieje osadnictwa i rozwój miasta\, jakim przez wiele lat był Gródek\, jego bytowanie i koleje losu\, kiedy to nastały trudniejsze czasy i stolica gminy stała się wsią. W jednym z rozdziałów książki znajdziemy także informacje o podgródeckich wsiach\, ich mieszkańcach\, ważnych sprawach. Poczytamy także\, jak pięknie i malowniczo jest na Ziemi Gródeckiej\, z jakimi atrakcjami może zetknąć się gość\, odwiedzający ten zakątek Polski\, czym żyją mieszkańcy tej przygranicznej gminy\, jak wielkie zmiany nastąpiły tu w czasie kolejnych stuleci.\nGmina Gródek\, dzięki zaangażowaniu władz samorządowych oraz mieszkańców\, z powodzeniem wykorzystuje swoje położenie i walory geograficzne\, historyczne i kulturalne. Źródłem wiedzy o ludziach\, miejscach i wydarzeniach\, jest od 1995 r. regularnie wydawana lokalna gazeta „Wiadomości Gródeckie – Haradockija Nawiny”. Dzięki staraniom Towarzystwa Przyjaciół Ziemi Gródeckiej w 2011 r. ukazał się dokumentalny album „Gródek w starej fotografii”\, dobrze i z ciekawością przyjęty przez lokalną społeczność. Jestem przekonany\, że niniejsza książka również spotka się z dużym zainteresowaniem i znajdzie wielu Czytelników.\nW monografii można znaleźć dużo ciekawostek i fascynujących historii z życia wziętych. Dodatkowym atutem są ciekawe zdjęcia oraz opowieści\, które przywołają niejedno wspomnienie i poruszą serca. Chociażby dlatego warto sięgnąć do lektury\, do czego serdecznie zachęcam. Jednocześnie proszę\, aby pamiętać\, że to my – mieszkańcy – tworzymy naszą rzeczywistość\, która potem staje się historią.\nWiesław Kulesza\nWójt Gminy Gródek\n
URL:https://gckgrodek.pl/wydarzenie/prezentacja-publikacji-monografia-ziemi-grodeckiej/
LOCATION:Gminne Centrum Kultury Gródku\, ul. A. i G. Chodkiewiczów 4\, Gródek\, 16-040
CATEGORIES:Spotkania
ATTACH;FMTTYPE=image/jpeg:https://gckgrodek.pl/wp-content/uploads/2022/02/274066947_5183496345015349_5655072656986438066_n.jpg
END:VEVENT
END:VCALENDAR