BEGIN:VCALENDAR
VERSION:2.0
PRODID:-//Gminne Centrum Kultury w Gródku - ECPv4.9.5//NONSGML v1.0//EN
CALSCALE:GREGORIAN
METHOD:PUBLISH
X-WR-CALNAME:Gminne Centrum Kultury w Gródku
X-ORIGINAL-URL:https://gckgrodek.pl
X-WR-CALDESC:Events for Gminne Centrum Kultury w Gródku
BEGIN:VTIMEZONE
TZID:"Europe/Warsaw"
BEGIN:DAYLIGHT
TZOFFSETFROM:+0100
TZOFFSETTO:+0200
TZNAME:CEST
DTSTART:20210328T010000
END:DAYLIGHT
BEGIN:STANDARD
TZOFFSETFROM:+0200
TZOFFSETTO:+0100
TZNAME:CET
DTSTART:20211031T010000
END:STANDARD
END:VTIMEZONE
BEGIN:VEVENT
DTSTART;TZID="Europe/Warsaw":20210807T190000
DTEND;TZID="Europe/Warsaw":20210808T010000
DTSTAMP:20260420T023015
CREATED:20210706T172935Z
LAST-MODIFIED:20210706T172935Z
UID:16053-1628362800-1628384400@gckgrodek.pl
SUMMARY:ZABAWA NA ANNĘ W KRÓLOWYM MOŚCIE
DESCRIPTION:Zapraszamy na wydarzenie z cyklu letnich zabaw przy muzyce białoruskiej w gminie Gródek: Zabawa na Annę w Królowym Moście\, która odbędzie się 7 sierpnia (sobota)\, godz. 19.00 na boisku w Królowym Moście\nPo raz kolejny dzięki współpracy z sołectwami: Królowy Most i Kołodno zawitamy do Królowego Mostu.\n– występy zespołów działających przy GCK;\n– koncerty zaproszonych gości:\n LAILAND\n VIESNA\n SIABRY\nZimne napoje serwuje “Bar Promyk”.\nZrealizowano dzięki dotacji Ministra Spraw Wewnętrznych i Administracji. \n\n\n  \n
URL:https://gckgrodek.pl/wydarzenie/zabawa-na-anne-w-krolowym-moscie-3/
LOCATION:Królowy Most\, Królowy Most\, Gródek\, 16-040
CATEGORIES:Imprezy plenerowe
ATTACH;FMTTYPE=image/jpeg:https://gckgrodek.pl/wp-content/uploads/2021/07/plakat-—-kopia.jpg
ORGANIZER;CN="Gminne%20Centrum%20Kultury%20w%20Gr%C3%B3dku":MAILTO:biuro@gckgrodek.pl
END:VEVENT
END:VCALENDAR