BEGIN:VCALENDAR
VERSION:2.0
PRODID:-//Gminne Centrum Kultury w Gródku - ECPv4.9.5//NONSGML v1.0//EN
CALSCALE:GREGORIAN
METHOD:PUBLISH
X-WR-CALNAME:Gminne Centrum Kultury w Gródku
X-ORIGINAL-URL:https://gckgrodek.pl
X-WR-CALDESC:Events for Gminne Centrum Kultury w Gródku
BEGIN:VTIMEZONE
TZID:"Europe/Warsaw"
BEGIN:DAYLIGHT
TZOFFSETFROM:+0100
TZOFFSETTO:+0200
TZNAME:CEST
DTSTART:20210328T010000
END:DAYLIGHT
BEGIN:STANDARD
TZOFFSETFROM:+0200
TZOFFSETTO:+0100
TZNAME:CET
DTSTART:20211031T010000
END:STANDARD
END:VTIMEZONE
BEGIN:VEVENT
DTSTART;TZID="Europe/Warsaw":20210731T170000
DTEND;TZID="Europe/Warsaw":20210801T020000
DTSTAMP:20260419T190116
CREATED:20210706T060455Z
LAST-MODIFIED:20210729T120219Z
UID:16049-1627750800-1627783200@gckgrodek.pl
SUMMARY:XXI MIĘDZYNARODOWY FESTIWAL SIABROUSKAJA BIASIEDA
DESCRIPTION:\nXXI Międzynarodowy Festiwal „Siabrouskaja Biasieda” \n31 lipca 2021\, godz. 17.00 \nAmfiteatr nad zalewem w Zarzeczanach \n\n\nTRANSMISJA “NA ŻYWO”\n \n\n  \nSiabrouskaja Biasieda to jedna z ważniejszych imprez o zasięgu międzynarodowym\, prezentująca dorobek kulturowy regionu i twórczość ludową z głównym naciskiem na kulturę mniejszości białoruskiej. Impreza będzie miała charakter koncertu połączonego ze wspólną zabawą\, w której uczestniczą wykonawcy i publiczność. Nawiąże do tradycyjnego\, zakorzenionego w kulturze słowiańskiej\, przyjacielskiego spotkania\, na którym nie może zabraknąć muzyki\, śpiewu i tańca. Projekt\, który w szerokim rozmiarze zaprezentuje rodzimą\, ludową kulturę\, będzie również okazją do prezentacji bogactwa kultury pogranicza oraz promocji walorów przyrodniczo-turystycznych gminy\, powiatu i całego województwa podlaskiego. Udział w imprezie zespołów dziecięcych\, młodzieżowych i dorosłych wprowadzi różnorodność repertuarową\, a różne rodzaje muzyki i śpiewu dadzą okazję do wspólnej zabawy. Oprócz dobrej zabawy spotkanie umożliwi młodzieży poznanie bogactwa rodzimego folkloru i tradycji regionalnych niezbędnych do określenia tożsamości narodowej\, zaś całej społeczności – poznanie wspólnych korzeni\, powrót do tradycji oraz uświadomi konieczność pielęgnowania jej dla przyszłych pokoleń. \nJak co roku organizatorzy przygotowują liczne atrakcje i bogaty program artystyczny. W trakcie imprezy oprócz występów zespołów i artystów ludowych odbędą się konkursy: plastyczny dla dzieci w wieku 5-10 lat pn. „Siabrouskaja biesiada widziana oczami dziecka” oraz konkurs na zdjęcie z imprezy z hashtagiem\, oceniany przez użytkowników portalu Instagram. Gwiazdą wieczoru będzie zespół Czeremszyna . Urozmaiceniem imprezy będzie występ dziecięcego zespołu taneczno-wokalnego „Padlaski wianok” oraz kapeli „Batareja”\, która w repertuarze posiada muzykę Suwalszczyzny\, Podlasia\, Lubelszczyzny\, a także wschodniego pogranicza. Nie zabraknie znanych zespołów promujących muzykę białoruską tj. AS\, Dobryje Grajki\, czy Souvenir. \nMiędzynarodowy Festiwal „Siabrouskaja Biasieda” również będzie można obejrzeć na żywo (online) z każdego zakątku Polski i świata poprzez serwis YouTube. \nPociągiem do Walił na XXI Międzynarodowy Festiwal „Siabrouskaja Biasieda”. Bus z Walił bezpłatnie dowiezie nad zalew w Zarzeczanach.\n\n\nWydarzenie na Facebooku: \nhttps://www.facebook.com/events/335838934822634 \nStrona wydarzenia: \nhttps://gckgrodek.pl/wydarzenie/xxi-miedzynarodowy-festiwal-siabrouskaja-biasieda/ \nMapka dla kierowców:  \nhttps://goo.gl/maps/gCD8bNETCxQxfJSY8 \n\n \nRegulamin\, zgoda RODO (PDF\, 400kb) – POBIERZ\n \nRegulamin\, zgoda RODO (PDF\, 300kb) – POBIERZ \n\n \nZrealizowano dzięki dotacji Ministra Spraw Wewnętrznych i Administracji.\n\nZadanie współfinansowane przez Powiat Białostocki.\n  \n  \n\nOrganizatorzy:\n \n \n\nPatronat medialny:\n \n \n \n \n \nSPONSORZY: \n \n\nK&K Global Kirill Halushka\nNadleśnictwo Waliły\nAM-Medica Michałowo\n
URL:https://gckgrodek.pl/wydarzenie/xxi-miedzynarodowy-festiwal-siabrouskaja-biasieda/
LOCATION:Amfiteatr nad zalewem w Zarzeczanach\, Zarzeczany\, Gródek\, Podlaskie\, 16-040\, Polska
CATEGORIES:Imprezy plenerowe
ATTACH;FMTTYPE=image/jpeg:https://gckgrodek.pl/wp-content/uploads/2021/07/plakat_sb_b2_21.jpg
END:VEVENT
END:VCALENDAR